BEGIN:VCALENDAR
VERSION:2.0
PRODID:-//postgresqleu/confreg//NONSGML v1.0//EN
BEGIN:VEVENT
UID:2973@fosdem2020
DTSTART:20200131T080000Z
DTEND:20200131T082000Z
DTSTAMP:20200131T074619Z
SUMMARY:Welcome and Opening (Magnus Hagander)
LOCATION:PGDay at Hilton
URL:https://www.postgresql.eu/events/fosdem2020/schedule/session/2973/
END:VEVENT
BEGIN:VEVENT
UID:2920@fosdem2020
DTSTART:20200131T082000Z
DTEND:20200131T091000Z
DTSTAMP:20200131T080633Z
SUMMARY:Hosted Environments for PostgreSQL: An Objective Look (Christophe Pettus)
LOCATION:PGDay at Hilton
URL:https://www.postgresql.eu/events/fosdem2020/schedule/session/2920/
END:VEVENT
BEGIN:VEVENT
UID:2934@fosdem2020
DTSTART:20200131T092000Z
DTEND:20200131T101000Z
DTSTAMP:20200131T090714Z
SUMMARY:PostgreSQL vs. probabilistic data structures (Tomas Vondra)
LOCATION:PGDay at Hilton
URL:https://www.postgresql.eu/events/fosdem2020/schedule/session/2934/
END:VEVENT
BEGIN:VEVENT
UID:2959@fosdem2020
DTSTART:20200131T103000Z
DTEND:20200131T112000Z
DTSTAMP:20200131T101802Z
SUMMARY:Asynchronous IO for PostgreSQL (Andres Freund)
LOCATION:PGDay at Hilton
URL:https://www.postgresql.eu/events/fosdem2020/schedule/session/2959/
END:VEVENT
BEGIN:VEVENT
UID:2864@fosdem2020
DTSTART:20200131T113000Z
DTEND:20200131T122000Z
DTSTAMP:20200131T111843Z
SUMMARY:Managing Mobility Data In PostgreSQL (Esteban Zimanyi, Mahmoud Sakr)
LOCATION:PGDay at Hilton
URL:https://www.postgresql.eu/events/fosdem2020/schedule/session/2864/
END:VEVENT
BEGIN:VEVENT
UID:2912@fosdem2020
DTSTART:20200131T132000Z
DTEND:20200131T141000Z
DTSTAMP:20200131T130955Z
SUMMARY:Modern B-Tree techniques (Dmitry Dolgov)
LOCATION:PGDay at Hilton
URL:https://www.postgresql.eu/events/fosdem2020/schedule/session/2912/
END:VEVENT
BEGIN:VEVENT
UID:2893@fosdem2020
DTSTART:20200131T142000Z
DTEND:20200131T151000Z
DTSTAMP:20200131T140532Z
SUMMARY:PGSpider - High-performance SQL cluster engine. (Taiga Katayama)
LOCATION:PGDay at Hilton
URL:https://www.postgresql.eu/events/fosdem2020/schedule/session/2893/
END:VEVENT
BEGIN:VEVENT
UID:2887@fosdem2020
DTSTART:20200131T153000Z
DTEND:20200131T162000Z
DTSTAMP:20200131T151621Z
SUMMARY:Deep Thoughts: Betting on Security (Joe Conway)
LOCATION:PGDay at Hilton
URL:https://www.postgresql.eu/events/fosdem2020/schedule/session/2887/
END:VEVENT
BEGIN:VEVENT
UID:2927@fosdem2020
DTSTART:20200202T090000Z
DTEND:20200202T095000Z
DTSTAMP:20200202T084912Z
SUMMARY:Fibonacci Spirals and 21 Ways to Contribute to Postgres—Beyond Code (Claire Giordano)
LOCATION:Devroom at FOSDEM
URL:https://www.postgresql.eu/events/fosdem2020/schedule/session/2927/
END:VEVENT
BEGIN:VEVENT
UID:2838@fosdem2020
DTSTART:20200202T100000Z
DTEND:20200202T105000Z
DTSTAMP:20200202T094952Z
SUMMARY:Find your slow queries, and fix them! (Stephen Frost)
LOCATION:Devroom at FOSDEM
URL:https://www.postgresql.eu/events/fosdem2020/schedule/session/2838/
END:VEVENT
BEGIN:VEVENT
UID:2863@fosdem2020
DTSTART:20200202T110000Z
DTEND:20200202T115000Z
DTSTAMP:20200202T104529Z
SUMMARY:A Deep Dive into PostgreSQL Indexing (Ibrar Ahmed)
LOCATION:Devroom at FOSDEM
URL:https://www.postgresql.eu/events/fosdem2020/schedule/session/2863/
END:VEVENT
BEGIN:VEVENT
UID:2957@fosdem2020
DTSTART:20200202T120000Z
DTEND:20200202T125000Z
DTSTAMP:20200202T114609Z
SUMMARY:PostgreSQL on K8S at Zalando: Two years in production (Alexander Kukushkin)
LOCATION:Devroom at FOSDEM
URL:https://www.postgresql.eu/events/fosdem2020/schedule/session/2957/
END:VEVENT
BEGIN:VEVENT
UID:2955@fosdem2020
DTSTART:20200202T130000Z
DTEND:20200202T135000Z
DTSTAMP:20200202T124650Z
SUMMARY:An ultimate guide to upgrading your PostgreSQL installation (Ilya Kosmodemiansky)
LOCATION:Devroom at FOSDEM
URL:https://www.postgresql.eu/events/fosdem2020/schedule/session/2955/
END:VEVENT
BEGIN:VEVENT
UID:2890@fosdem2020
DTSTART:20200202T140000Z
DTEND:20200202T145000Z
DTSTAMP:20200202T134731Z
SUMMARY:The State of (Full) Text Search in PostgreSQL 12 (Jimmy Angelakos)
LOCATION:Devroom at FOSDEM
URL:https://www.postgresql.eu/events/fosdem2020/schedule/session/2890/
END:VEVENT
BEGIN:VEVENT
UID:2849@fosdem2020
DTSTART:20200202T150000Z
DTEND:20200202T155000Z
DTSTAMP:20200202T144821Z
SUMMARY:RTFM (Federico Campoli)
LOCATION:Devroom at FOSDEM
URL:https://www.postgresql.eu/events/fosdem2020/schedule/session/2849/
END:VEVENT
END:VCALENDAR
