BEGIN:VCALENDAR
VERSION:2.0
PRODID:-//postgresqleu/confreg//NONSGML v1.0//EN
BEGIN:VEVENT
UID:4252@fosdem2023
DTSTART:20230203T080000Z
DTEND:20230203T082000Z
DTSTAMP:20230203T074913Z
SUMMARY:Welcome and Opening (Magnus Hagander)
LOCATION:Brussels Ballroom 2
URL:https://www.postgresql.eu/events/fosdem2023/schedule/session/4252/
END:VEVENT
BEGIN:VEVENT
UID:4167@fosdem2023
DTSTART:20230203T082000Z
DTEND:20230203T091000Z
DTSTAMP:20230203T080915Z
SUMMARY:LFMF: how a CREATE INDEX CONCURRENTLY led to a 6 hour downtime (Gunnar &quot;Nick&quot; Bluth)
LOCATION:Brussels Ballroom 2
URL:https://www.postgresql.eu/events/fosdem2023/schedule/session/4167/
END:VEVENT
BEGIN:VEVENT
UID:4148@fosdem2023
DTSTART:20230203T092000Z
DTEND:20230203T101000Z
DTSTAMP:20230203T090922Z
SUMMARY:Securing PostgreSQL From External Attack (Bruce Momjian)
LOCATION:Brussels Ballroom 2
URL:https://www.postgresql.eu/events/fosdem2023/schedule/session/4148/
END:VEVENT
BEGIN:VEVENT
UID:4137@fosdem2023
DTSTART:20230203T103000Z
DTEND:20230203T112000Z
DTSTAMP:20230203T101934Z
SUMMARY:Fuzzy Text Search: An unassertive guide to almost getting what you want (Brendan Scullion)
LOCATION:Brussels Ballroom 2
URL:https://www.postgresql.eu/events/fosdem2023/schedule/session/4137/
END:VEVENT
BEGIN:VEVENT
UID:4132@fosdem2023
DTSTART:20230203T113000Z
DTEND:20230203T122000Z
DTSTAMP:20230203T111950Z
SUMMARY:Understanding PostgreSQL Query Plans (aka EXPLAIN) (Stephen Frost)
LOCATION:Brussels Ballroom 2
URL:https://www.postgresql.eu/events/fosdem2023/schedule/session/4132/
END:VEVENT
BEGIN:VEVENT
UID:4203@fosdem2023
DTSTART:20230203T132000Z
DTEND:20230203T141000Z
DTSTAMP:20230203T130519Z
SUMMARY:Deep dive into the pgBackRest world (Stefan Fercot)
LOCATION:Brussels Ballroom 2
URL:https://www.postgresql.eu/events/fosdem2023/schedule/session/4203/
END:VEVENT
BEGIN:VEVENT
UID:4196@fosdem2023
DTSTART:20230203T142000Z
DTEND:20230203T151000Z
DTSTAMP:20230203T140523Z
SUMMARY:Fighting write amplification by stimulating HOT updates through the fill factor (Derk van Veen)
LOCATION:Brussels Ballroom 2
URL:https://www.postgresql.eu/events/fosdem2023/schedule/session/4196/
END:VEVENT
BEGIN:VEVENT
UID:4216@fosdem2023
DTSTART:20230203T153000Z
DTEND:20230203T162000Z
DTSTAMP:20230203T151530Z
SUMMARY:Crazy Things You Can Do with PostgreSQL Indexes (Christopher Travers)
LOCATION:Brussels Ballroom 2
URL:https://www.postgresql.eu/events/fosdem2023/schedule/session/4216/
END:VEVENT
BEGIN:VEVENT
UID:4120@fosdem2023
DTSTART:20230205T080000Z
DTEND:20230205T085000Z
DTSTAMP:20230205T074938Z
SUMMARY:Tour de Data Types: VARCHAR2 or CHAR(255)? (Andreas Scherbaum)
LOCATION:PostgreSQL Devroom
URL:https://www.postgresql.eu/events/fosdem2023/schedule/session/4120/
END:VEVENT
BEGIN:VEVENT
UID:4217@fosdem2023
DTSTART:20230205T090000Z
DTEND:20230205T095000Z
DTSTAMP:20230205T084945Z
SUMMARY:How to Give Your Postgres Blog Posts an Outsize Impact (Claire Giordano)
LOCATION:PostgreSQL Devroom
URL:https://www.postgresql.eu/events/fosdem2023/schedule/session/4217/
END:VEVENT
BEGIN:VEVENT
UID:4096@fosdem2023
DTSTART:20230205T100000Z
DTEND:20230205T105000Z
DTSTAMP:20230205T094951Z
SUMMARY:When it all GOes right (Pavlo Golub)
LOCATION:PostgreSQL Devroom
URL:https://www.postgresql.eu/events/fosdem2023/schedule/session/4096/
END:VEVENT
BEGIN:VEVENT
UID:4219@fosdem2023
DTSTART:20230205T110000Z
DTEND:20230205T115000Z
DTSTAMP:20230205T104957Z
SUMMARY:The Human Factor:  Why Database teams Need Crew Resource Management (Christopher Travers)
LOCATION:PostgreSQL Devroom
URL:https://www.postgresql.eu/events/fosdem2023/schedule/session/4219/
END:VEVENT
BEGIN:VEVENT
UID:4245@fosdem2023
DTSTART:20230205T120000Z
DTEND:20230205T125000Z
DTSTAMP:20230205T114504Z
SUMMARY:Bulk Inserts With PostgreSQL: Four Methods For Efficient Data Loading (Ryan Booz)
LOCATION:PostgreSQL Devroom
URL:https://www.postgresql.eu/events/fosdem2023/schedule/session/4245/
END:VEVENT
BEGIN:VEVENT
UID:4143@fosdem2023
DTSTART:20230205T130000Z
DTEND:20230205T135000Z
DTSTAMP:20230205T124510Z
SUMMARY:DBA Evolution (the Changing Role of the Database Administrator) (Karen Jex)
LOCATION:PostgreSQL Devroom
URL:https://www.postgresql.eu/events/fosdem2023/schedule/session/4143/
END:VEVENT
BEGIN:VEVENT
UID:4205@fosdem2023
DTSTART:20230205T140000Z
DTEND:20230205T145000Z
DTSTAMP:20230205T134517Z
SUMMARY:Deep dive into Query Performance (Peter Zaitsev)
LOCATION:PostgreSQL Devroom
URL:https://www.postgresql.eu/events/fosdem2023/schedule/session/4205/
END:VEVENT
BEGIN:VEVENT
UID:4099@fosdem2023
DTSTART:20230205T150000Z
DTEND:20230205T155000Z
DTSTAMP:20230205T144524Z
SUMMARY:Don&#x27;t Do This (Jimmy Angelakos)
LOCATION:PostgreSQL Devroom
URL:https://www.postgresql.eu/events/fosdem2023/schedule/session/4099/
END:VEVENT
END:VCALENDAR
