BEGIN:VCALENDAR
VERSION:2.0
PRODID:-//postgresqleu/confreg//NONSGML v1.0//EN
BEGIN:VEVENT
UID:4436@pgdaymed2023
DTSTART:20230413T071500Z
DTEND:20230413T080500Z
DTSTAMP:20230413T070004Z
SUMMARY:Advanced Data Types in PostgreSQL (Andreas Scherbaum)
LOCATION:Amphitheatre
URL:https://www.postgresql.eu/events/pgdaymed2023/schedule/session/4436/
END:VEVENT
BEGIN:VEVENT
UID:4431@pgdaymed2023
DTSTART:20230413T082000Z
DTEND:20230413T091000Z
DTSTAMP:20230413T080512Z
SUMMARY:PostgreSQL Replication: (Almost) everything you want to know (Devrim Gündüz)
LOCATION:Amphitheatre
URL:https://www.postgresql.eu/events/pgdaymed2023/schedule/session/4431/
END:VEVENT
BEGIN:VEVENT
UID:4501@pgdaymed2023
DTSTART:20230413T091500Z
DTEND:20230413T100500Z
DTSTAMP:20230413T090018Z
SUMMARY:The Benefits of Source Control for Your PostgreSQL Databases (Grant Fritchey)
LOCATION:Amphitheatre
URL:https://www.postgresql.eu/events/pgdaymed2023/schedule/session/4501/
END:VEVENT
BEGIN:VEVENT
UID:4506@pgdaymed2023
DTSTART:20230413T111000Z
DTEND:20230413T120000Z
DTSTAMP:20230413T105527Z
SUMMARY:You Don&#x27;t Need a Database Backup Policy (Karen Jex)
LOCATION:Amphitheatre
URL:https://www.postgresql.eu/events/pgdaymed2023/schedule/session/4506/
END:VEVENT
BEGIN:VEVENT
UID:4488@pgdaymed2023
DTSTART:20230413T120500Z
DTEND:20230413T125500Z
DTSTAMP:20230413T115031Z
SUMMARY:Recovery conflicts in PostgreSQL - understanding error &quot;canceling statement due to conflict with recovery&quot; (Divya Sharma)
LOCATION:Amphitheatre
URL:https://www.postgresql.eu/events/pgdaymed2023/schedule/session/4488/
END:VEVENT
BEGIN:VEVENT
UID:4503@pgdaymed2023
DTSTART:20230413T131000Z
DTEND:20230413T140000Z
DTSTAMP:20230413T125535Z
SUMMARY:Professional PostgreSQL scheduling made easy (Pavlo Golub)
LOCATION:Amphitheatre
URL:https://www.postgresql.eu/events/pgdaymed2023/schedule/session/4503/
END:VEVENT
BEGIN:VEVENT
UID:4480@pgdaymed2023
DTSTART:20230413T140500Z
DTEND:20230413T145500Z
DTSTAMP:20230413T135039Z
SUMMARY:Dissecting Partitioning (Bruce Momjian)
LOCATION:Amphitheatre
URL:https://www.postgresql.eu/events/pgdaymed2023/schedule/session/4480/
END:VEVENT
BEGIN:VEVENT
UID:4487@pgdaymed2023
DTSTART:20230413T150000Z
DTEND:20230413T155000Z
DTSTAMP:20230413T144544Z
SUMMARY:Extreme PostgreSQL (Christophe Pettus)
LOCATION:Amphitheatre
URL:https://www.postgresql.eu/events/pgdaymed2023/schedule/session/4487/
END:VEVENT
END:VCALENDAR
