BEGIN:VCALENDAR
VERSION:2.0
PRODID:-//postgresqleu/confreg//NONSGML v1.0//EN
BEGIN:VEVENT
UID:30@fosdem2010
DTSTART:20100206T121500Z
DTEND:20100206T130000Z
DTSTAMP:20121017T195804Z
SUMMARY:Developments in PostgreSQL 9.0 (Dave Page)
LOCATION:AW1.121
URL:https://www.postgresql.eu/events/fosdem2010/schedule/session/30/
END:VEVENT
BEGIN:VEVENT
UID:32@fosdem2010
DTSTART:20100206T131500Z
DTEND:20100206T140000Z
DTSTAMP:20121017T195804Z
SUMMARY:Streaming replication under the hood (Heikki Linnakangas)
LOCATION:AW1.121
URL:https://www.postgresql.eu/events/fosdem2010/schedule/session/32/
END:VEVENT
BEGIN:VEVENT
UID:31@fosdem2010
DTSTART:20100206T141500Z
DTEND:20100206T150000Z
DTSTAMP:20121017T195804Z
SUMMARY:Hot Standby Live (Simon Riggs)
LOCATION:AW1.121
URL:https://www.postgresql.eu/events/fosdem2010/schedule/session/31/
END:VEVENT
BEGIN:VEVENT
UID:33@fosdem2010
DTSTART:20100206T151500Z
DTEND:20100206T160000Z
DTSTAMP:20121017T195804Z
SUMMARY:Beyond UNIQUE: Exclusion constraints in PostgreSQL 9.0 (Magnus Hagander)
LOCATION:AW1.121
URL:https://www.postgresql.eu/events/fosdem2010/schedule/session/33/
END:VEVENT
BEGIN:VEVENT
UID:34@fosdem2010
DTSTART:20100206T161500Z
DTEND:20100206T170000Z
DTSTAMP:20121017T195804Z
SUMMARY:Elephants and Other Wild Animals:  PostgreSQL at the Heart of the Ticketing Point of Sale in the Basel Zoo (Marc Balmer)
LOCATION:AW1.121
URL:https://www.postgresql.eu/events/fosdem2010/schedule/session/34/
END:VEVENT
BEGIN:VEVENT
UID:35@fosdem2010
DTSTART:20100206T171500Z
DTEND:20100206T180000Z
DTSTAMP:20121017T195804Z
SUMMARY:Most Wanted: Future PostgreSQL Features (Peter Eisentraut)
LOCATION:AW1.121
URL:https://www.postgresql.eu/events/fosdem2010/schedule/session/35/
END:VEVENT
BEGIN:VEVENT
UID:36@fosdem2010
DTSTART:20100207T130000Z
DTEND:20100207T134500Z
DTSTAMP:20121017T195804Z
SUMMARY:Lists and Recursion and Trees (oh my) (David Fetter)
LOCATION:Janson
URL:https://www.postgresql.eu/events/fosdem2010/schedule/session/36/
END:VEVENT
END:VCALENDAR
