BEGIN:VCALENDAR
VERSION:2.0
PRODID:-//postgresqleu/confreg//NONSGML v1.0//EN
BEGIN:VEVENT
UID:1144@fosdem2016
DTSTART:20160129T082000Z
DTEND:20160129T091000Z
DTSTAMP:20160113T233439Z
SUMMARY:PostgreSQL High Availability, 2016 Edition (Christophe Pettus)
LOCATION:Hotel
URL:https://www.postgresql.eu/events/fosdem2016/schedule/session/1144/
END:VEVENT
BEGIN:VEVENT
UID:1186@fosdem2016
DTSTART:20160129T092000Z
DTEND:20160129T101000Z
DTSTAMP:20151221T220305Z
SUMMARY:PostgreSQL Performance on EXT4, XFS, F2FS, BTRFS and ZFS (Tomas Vondra)
LOCATION:Hotel
URL:https://www.postgresql.eu/events/fosdem2016/schedule/session/1186/
END:VEVENT
BEGIN:VEVENT
UID:1177@fosdem2016
DTSTART:20160129T103000Z
DTEND:20160129T112000Z
DTSTAMP:20151221T221428Z
SUMMARY:Deciphering two phase commit (Ashwin Agrawal, Asim Praveen)
LOCATION:Hotel
URL:https://www.postgresql.eu/events/fosdem2016/schedule/session/1177/
END:VEVENT
BEGIN:VEVENT
UID:1164@fosdem2016
DTSTART:20160129T113000Z
DTEND:20160129T122000Z
DTSTAMP:20151221T221617Z
SUMMARY:Managing PostgreSQL with Ansible (Gülçin Yıldırım Jelinek)
LOCATION:Hotel
URL:https://www.postgresql.eu/events/fosdem2016/schedule/session/1164/
END:VEVENT
BEGIN:VEVENT
UID:1141@fosdem2016
DTSTART:20160129T132000Z
DTEND:20160129T141000Z
DTSTAMP:20151221T221720Z
SUMMARY:Highly available PostgreSQL with Patroni (Oleksii Kliukin)
LOCATION:Hotel
URL:https://www.postgresql.eu/events/fosdem2016/schedule/session/1141/
END:VEVENT
BEGIN:VEVENT
UID:1182@fosdem2016
DTSTART:20160129T142000Z
DTEND:20160129T151000Z
DTSTAMP:20151221T221803Z
SUMMARY:Logical decoding for applications: Solr full-text search in near-real time with pglogical (Craig Ringer)
LOCATION:Hotel
URL:https://www.postgresql.eu/events/fosdem2016/schedule/session/1182/
END:VEVENT
BEGIN:VEVENT
UID:1187@fosdem2016
DTSTART:20160129T153000Z
DTEND:20160129T162000Z
DTSTAMP:20151221T221842Z
SUMMARY:Streaming huge databases using logical decoding (Oleksandr Shulgin)
LOCATION:Hotel
URL:https://www.postgresql.eu/events/fosdem2016/schedule/session/1187/
END:VEVENT
BEGIN:VEVENT
UID:1176@fosdem2016
DTSTART:20160131T100000Z
DTEND:20160131T105000Z
DTSTAMP:20160130T231810Z
SUMMARY:Unified Framework for Big Data Foreign Data Wrappers (FDW) (Shivram Mani)
LOCATION:H.1309 (Van Rijn)
URL:https://www.postgresql.eu/events/fosdem2016/schedule/session/1176/
END:VEVENT
BEGIN:VEVENT
UID:1184@fosdem2016
DTSTART:20160131T110000Z
DTEND:20160131T115000Z
DTSTAMP:20151221T214944Z
SUMMARY:Improving Postgres&#x27; Buffer Manager (Andres Freund)
LOCATION:H.1309 (Van Rijn)
URL:https://www.postgresql.eu/events/fosdem2016/schedule/session/1184/
END:VEVENT
BEGIN:VEVENT
UID:1171@fosdem2016
DTSTART:20160131T120000Z
DTEND:20160131T125000Z
DTSTAMP:20151221T215039Z
SUMMARY:JSON By Example (Stefanie Janine Stölting)
LOCATION:H.1309 (Van Rijn)
URL:https://www.postgresql.eu/events/fosdem2016/schedule/session/1171/
END:VEVENT
BEGIN:VEVENT
UID:1161@fosdem2016
DTSTART:20160131T130000Z
DTEND:20160131T135000Z
DTSTAMP:20151221T215133Z
SUMMARY:Explaining the Postgres Query Optimizer (Bruce Momjian)
LOCATION:H.1309 (Van Rijn)
URL:https://www.postgresql.eu/events/fosdem2016/schedule/session/1161/
END:VEVENT
BEGIN:VEVENT
UID:1169@fosdem2016
DTSTART:20160131T140000Z
DTEND:20160131T145000Z
DTSTAMP:20151221T215322Z
SUMMARY:UPSERT use cases (Peter Geoghegan)
LOCATION:H.1309 (Van Rijn)
URL:https://www.postgresql.eu/events/fosdem2016/schedule/session/1169/
END:VEVENT
BEGIN:VEVENT
UID:1183@fosdem2016
DTSTART:20160131T150000Z
DTEND:20160131T155000Z
DTSTAMP:20151221T215429Z
SUMMARY:Using PostgreSQL for Bibliographic Data (Jimmy Angelakos)
LOCATION:H.1309 (Van Rijn)
URL:https://www.postgresql.eu/events/fosdem2016/schedule/session/1183/
END:VEVENT
END:VCALENDAR
