BEGIN:VCALENDAR
VERSION:2.0
PRODID:-//postgresqleu/confreg//NONSGML v1.0//EN
BEGIN:VEVENT
UID:6427@nordicpgday2025
DTSTART:20250318T081500Z
DTEND:20250318T090500Z
DTSTAMP:20250318T080328Z
SUMMARY:PostgreSQL Tips &amp; Tricks For App Devs (Chris Ellis)
LOCATION:Main Room
URL:https://www.postgresql.eu/events/nordicpgday2025/schedule/session/6427/
END:VEVENT
BEGIN:VEVENT
UID:6403@nordicpgday2025
DTSTART:20250318T092000Z
DTEND:20250318T101000Z
DTSTAMP:20250318T090654Z
SUMMARY:pg_upgrade like a boss! (Alexander Kukushkin)
LOCATION:Main Room
URL:https://www.postgresql.eu/events/nordicpgday2025/schedule/session/6403/
END:VEVENT
BEGIN:VEVENT
UID:6554@nordicpgday2025
DTSTART:20250318T092000Z
DTEND:20250318T094000Z
DTSTAMP:20250318T090654Z
SUMMARY:Unlock PostgreSQL performance: AI-powered tuning with DBtune (Dr. Luigi Nardi)
LOCATION:Sponsor track room
URL:https://www.postgresql.eu/events/nordicpgday2025/schedule/session/6554/
END:VEVENT
BEGIN:VEVENT
UID:6555@nordicpgday2025
DTSTART:20250318T095000Z
DTEND:20250318T101000Z
DTSTAMP:20250318T093830Z
SUMMARY:Taming write latencies with Patroni quorum mode (Ants Aasma)
LOCATION:Sponsor track room
URL:https://www.postgresql.eu/events/nordicpgday2025/schedule/session/6555/
END:VEVENT
BEGIN:VEVENT
UID:6556@nordicpgday2025
DTSTART:20250318T101500Z
DTEND:20250318T103500Z
DTSTAMP:20250318T100006Z
SUMMARY:Multi-postgres: Enterprise ready PostgreSQL (Dennis Rilorin)
LOCATION:Sponsor track room
URL:https://www.postgresql.eu/events/nordicpgday2025/schedule/session/6556/
END:VEVENT
BEGIN:VEVENT
UID:6220@nordicpgday2025
DTSTART:20250318T101500Z
DTEND:20250318T110500Z
DTSTAMP:20250318T100006Z
SUMMARY:Postgres test data generation 101 (Kaarel Moppel)
LOCATION:Main Room
URL:https://www.postgresql.eu/events/nordicpgday2025/schedule/session/6220/
END:VEVENT
BEGIN:VEVENT
UID:6557@nordicpgday2025
DTSTART:20250318T104500Z
DTEND:20250318T110500Z
DTSTAMP:20250318T103142Z
SUMMARY:Postgres is evolving from a Database to a platform for AI workloads —are you ready? (Nikolai Utzon-Meiland)
LOCATION:Sponsor track room
URL:https://www.postgresql.eu/events/nordicpgday2025/schedule/session/6557/
END:VEVENT
BEGIN:VEVENT
UID:6116@nordicpgday2025
DTSTART:20250318T121000Z
DTEND:20250318T130000Z
DTSTAMP:20250318T115540Z
SUMMARY:From 60 Million to 25 Billion: 8 Years of Scaling a Core System with PostgreSQL in Fintech (Dmytro Hnatiuk)
LOCATION:Main Room
URL:https://www.postgresql.eu/events/nordicpgday2025/schedule/session/6116/
END:VEVENT
BEGIN:VEVENT
UID:6140@nordicpgday2025
DTSTART:20250318T130500Z
DTEND:20250318T133500Z
DTSTAMP:20250318T125354Z
SUMMARY:Your PostgreSQL Database performance radar: pgBadger (Priyanka Chatterjee)
LOCATION:Main Room
URL:https://www.postgresql.eu/events/nordicpgday2025/schedule/session/6140/
END:VEVENT
BEGIN:VEVENT
UID:6631@nordicpgday2025
DTSTART:20250318T133500Z
DTEND:20250318T134500Z
DTSTAMP:20250318T140743Z
SUMMARY:Lightning Talk: First Responders (Christophe Pettus)
LOCATION:Main Room
URL:https://www.postgresql.eu/events/nordicpgday2025/schedule/session/6631/
END:VEVENT
BEGIN:VEVENT
UID:6632@nordicpgday2025
DTSTART:20250318T134500Z
DTEND:20250318T135500Z
DTSTAMP:20250318T141050Z
SUMMARY:Lightning Talk: Play Wordle with PostgreSQL (Pavlo Golub)
LOCATION:Main Room
URL:https://www.postgresql.eu/events/nordicpgday2025/schedule/session/6632/
END:VEVENT
BEGIN:VEVENT
UID:6408@nordicpgday2025
DTSTART:20250318T141000Z
DTEND:20250318T150000Z
DTSTAMP:20250318T135703Z
SUMMARY:Leveraging table partitioning for query performance and data archiving (Derk van Veen)
LOCATION:Main Room
URL:https://www.postgresql.eu/events/nordicpgday2025/schedule/session/6408/
END:VEVENT
BEGIN:VEVENT
UID:6042@nordicpgday2025
DTSTART:20250318T150500Z
DTEND:20250318T154500Z
DTSTAMP:20250318T145430Z
SUMMARY:Window Functions Are Easier and More Powerful Than You Think (Vik Fearing)
LOCATION:Main Room
URL:https://www.postgresql.eu/events/nordicpgday2025/schedule/session/6042/
END:VEVENT
BEGIN:VEVENT
UID:6633@nordicpgday2025
DTSTART:20250318T154500Z
DTEND:20250318T155500Z
DTSTAMP:20250318T160837Z
SUMMARY:Lightning Talk: The state of PostgreSQL RPMs (Devrim Gündüz)
LOCATION:Main Room
URL:https://www.postgresql.eu/events/nordicpgday2025/schedule/session/6633/
END:VEVENT
BEGIN:VEVENT
UID:6246@nordicpgday2025
DTSTART:20250318T160000Z
DTEND:20250318T165000Z
DTSTAMP:20250318T154740Z
SUMMARY:From Queries to Pints: Building a Beer Recommendation System with pgvector (Andrzej Nowicki)
LOCATION:Main Room
URL:https://www.postgresql.eu/events/nordicpgday2025/schedule/session/6246/
END:VEVENT
END:VCALENDAR
