BEGIN:VCALENDAR
VERSION:2.0
PRODID:-//postgresqleu/confreg//NONSGML v1.0//EN
BEGIN:VEVENT
UID:555@pgconfde2013
DTSTART:20131108T080000Z
DTEND:20131108T084500Z
DTSTAMP:20131003T003502Z
SUMMARY:The World&#x27;s Largest Postgres Install (Peter van Hardenberg)
LOCATION:Room 2
URL:https://www.postgresql.eu/events/pgconfde2013/schedule/session/555/
END:VEVENT
BEGIN:VEVENT
UID:533@pgconfde2013
DTSTART:20131108T090000Z
DTEND:20131108T094500Z
DTSTAMP:20131107T162754Z
SUMMARY:Schneller blättern – mit PostgreSQL (Markus Winand)
LOCATION:Room 3
URL:https://www.postgresql.eu/events/pgconfde2013/schedule/session/533/
END:VEVENT
BEGIN:VEVENT
UID:556@pgconfde2013
DTSTART:20131108T090000Z
DTEND:20131108T094500Z
DTSTAMP:20131003T002234Z
SUMMARY:Elefanten sind in Mode (Jan Mussler)
LOCATION:Room 1
URL:https://www.postgresql.eu/events/pgconfde2013/schedule/session/556/
END:VEVENT
BEGIN:VEVENT
UID:404@pgconfde2013
DTSTART:20131108T090000Z
DTEND:20131108T094500Z
DTSTAMP:20131003T002311Z
SUMMARY:PostgreSQL - Eines der wichtigsten Open-Source Projekte (Michael Meskes)
LOCATION:Room 2
URL:https://www.postgresql.eu/events/pgconfde2013/schedule/session/404/
END:VEVENT
BEGIN:VEVENT
UID:421@pgconfde2013
DTSTART:20131108T100000Z
DTEND:20131108T104500Z
DTSTAMP:20131003T002449Z
SUMMARY:Performance Problem aufspüren (Hans-Jürgen Schönig)
LOCATION:Room 2
URL:https://www.postgresql.eu/events/pgconfde2013/schedule/session/421/
END:VEVENT
BEGIN:VEVENT
UID:564@pgconfde2013
DTSTART:20131108T100000Z
DTEND:20131108T104500Z
DTSTAMP:20131003T002509Z
SUMMARY:Treating your data legacy (Björn Häuser)
LOCATION:Room 3
URL:https://www.postgresql.eu/events/pgconfde2013/schedule/session/564/
END:VEVENT
BEGIN:VEVENT
UID:540@pgconfde2013
DTSTART:20131108T100000Z
DTEND:20131108T104500Z
DTSTAMP:20131011T072045Z
SUMMARY:Whats New In Postgres 9.3 (Robert Treat)
LOCATION:Room 1
URL:https://www.postgresql.eu/events/pgconfde2013/schedule/session/540/
END:VEVENT
BEGIN:VEVENT
UID:534@pgconfde2013
DTSTART:20131108T114500Z
DTEND:20131108T123000Z
DTSTAMP:20131003T002545Z
SUMMARY:Volkskrankheit „Stiefmütterliche Indizierung“ (Markus Winand)
LOCATION:Room 1
URL:https://www.postgresql.eu/events/pgconfde2013/schedule/session/534/
END:VEVENT
BEGIN:VEVENT
UID:557@pgconfde2013
DTSTART:20131108T114500Z
DTEND:20131108T123000Z
DTSTAMP:20131003T002658Z
SUMMARY:Writing A Foreign Data Wrapper (Bernd Helmle)
LOCATION:Room 3
URL:https://www.postgresql.eu/events/pgconfde2013/schedule/session/557/
END:VEVENT
BEGIN:VEVENT
UID:532@pgconfde2013
DTSTART:20131108T114500Z
DTEND:20131108T123000Z
DTSTAMP:20131003T002607Z
SUMMARY:Postgresql als huge data storage (Eric Winter)
LOCATION:Room 2
URL:https://www.postgresql.eu/events/pgconfde2013/schedule/session/532/
END:VEVENT
BEGIN:VEVENT
UID:541@pgconfde2013
DTSTART:20131108T124500Z
DTEND:20131108T133000Z
DTSTAMP:20131003T002740Z
SUMMARY:PostgreSQL in 5 Jahren (Marc Linster)
LOCATION:Room 2
URL:https://www.postgresql.eu/events/pgconfde2013/schedule/session/541/
END:VEVENT
BEGIN:VEVENT
UID:531@pgconfde2013
DTSTART:20131108T124500Z
DTEND:20131108T133000Z
DTSTAMP:20131010T201521Z
SUMMARY:Migration von Sybase ASE auf PostgreSQL (Achim Eisele, Jens Wilke)
LOCATION:Room 1
URL:https://www.postgresql.eu/events/pgconfde2013/schedule/session/531/
END:VEVENT
BEGIN:VEVENT
UID:524@pgconfde2013
DTSTART:20131108T124500Z
DTEND:20131108T133000Z
DTSTAMP:20131005T192419Z
SUMMARY:Point Cloud - Erfahrungen mit PostgreSQL Extensions und Big Data (Stefan Keller)
LOCATION:Room 3
URL:https://www.postgresql.eu/events/pgconfde2013/schedule/session/524/
END:VEVENT
BEGIN:VEVENT
UID:383@pgconfde2013
DTSTART:20131108T134500Z
DTEND:20131108T143000Z
DTSTAMP:20131003T002827Z
SUMMARY:Practical Tips for Better PostgreSQL Applications (Marc Balmer)
LOCATION:Room 1
URL:https://www.postgresql.eu/events/pgconfde2013/schedule/session/383/
END:VEVENT
BEGIN:VEVENT
UID:563@pgconfde2013
DTSTART:20131108T134500Z
DTEND:20131108T143000Z
DTSTAMP:20131003T002858Z
SUMMARY:PostgreSQL &amp; Business Intelligence (Simon Riggs)
LOCATION:Room 2
URL:https://www.postgresql.eu/events/pgconfde2013/schedule/session/563/
END:VEVENT
BEGIN:VEVENT
UID:526@pgconfde2013
DTSTART:20131108T134500Z
DTEND:20131108T143000Z
DTSTAMP:20131003T002936Z
SUMMARY:Rundum glücklich Postgres Monitoring (Michael Renner)
LOCATION:Room 3
URL:https://www.postgresql.eu/events/pgconfde2013/schedule/session/526/
END:VEVENT
BEGIN:VEVENT
UID:554@pgconfde2013
DTSTART:20131108T150000Z
DTEND:20131108T154500Z
DTSTAMP:20131003T003007Z
SUMMARY:Eine Tour durch postgresql-contrib (Christoph Berg)
LOCATION:Room 1
URL:https://www.postgresql.eu/events/pgconfde2013/schedule/session/554/
END:VEVENT
BEGIN:VEVENT
UID:561@pgconfde2013
DTSTART:20131108T150000Z
DTEND:20131108T154500Z
DTSTAMP:20131003T003028Z
SUMMARY:Chancen und Wachstumsfelder für PostgreSQL (Harald Armin Massa)
LOCATION:Room 2
URL:https://www.postgresql.eu/events/pgconfde2013/schedule/session/561/
END:VEVENT
BEGIN:VEVENT
UID:454@pgconfde2013
DTSTART:20131108T150000Z
DTEND:20131108T154500Z
DTSTAMP:20131003T003050Z
SUMMARY:PostgreSQL Disaster Recovery with Barman (Gabriele Bartolini)
LOCATION:Room 3
URL:https://www.postgresql.eu/events/pgconfde2013/schedule/session/454/
END:VEVENT
BEGIN:VEVENT
UID:560@pgconfde2013
DTSTART:20131108T160000Z
DTEND:20131108T164500Z
DTSTAMP:20131003T003132Z
SUMMARY:The state of in-core changeset  extraction (Andres Freund)
LOCATION:Room 2
URL:https://www.postgresql.eu/events/pgconfde2013/schedule/session/560/
END:VEVENT
BEGIN:VEVENT
UID:539@pgconfde2013
DTSTART:20131108T160000Z
DTEND:20131108T164500Z
DTSTAMP:20131003T003113Z
SUMMARY:PostgreSQL im Bayerischen Landwirtschaftsministerium (Michael Gengenbach)
LOCATION:Room 1
URL:https://www.postgresql.eu/events/pgconfde2013/schedule/session/539/
END:VEVENT
BEGIN:VEVENT
UID:559@pgconfde2013
DTSTART:20131108T160000Z
DTEND:20131108T164500Z
DTSTAMP:20131003T003154Z
SUMMARY:Time-series Datensätze in PostgreSQL (Sebastian Harl)
LOCATION:Room 3
URL:https://www.postgresql.eu/events/pgconfde2013/schedule/session/559/
END:VEVENT
BEGIN:VEVENT
UID:566@pgconfde2013
DTSTART:20131108T170000Z
DTEND:20131108T172000Z
DTSTAMP:20131002T210323Z
SUMMARY:Closing (Andreas Scherbaum)
LOCATION:Room 2
URL:https://www.postgresql.eu/events/pgconfde2013/schedule/session/566/
END:VEVENT
END:VCALENDAR
