BEGIN:VCALENDAR
VERSION:2.0
PRODID:-//postgresqleu/confreg//NONSGML v1.0//EN
BEGIN:VEVENT
UID:6626@pgconfde2025
DTSTART:20250508T070000Z
DTEND:20250508T071000Z
DTSTAMP:20250508T064717Z
SUMMARY:Opening (Andreas Scherbaum)
LOCATION:Berlin 1
URL:https://www.postgresql.eu/events/pgconfde2025/schedule/session/6626/
END:VEVENT
BEGIN:VEVENT
UID:6480@pgconfde2025
DTSTART:20250508T071000Z
DTEND:20250508T075500Z
DTSTAMP:20250508T065806Z
SUMMARY:Fun with Postgres High Availability Poker (Derk van Veen, Teresa Lopes)
LOCATION:Berlin 1
URL:https://www.postgresql.eu/events/pgconfde2025/schedule/session/6480/
END:VEVENT
BEGIN:VEVENT
UID:6510@pgconfde2025
DTSTART:20250508T071000Z
DTEND:20250508T075500Z
DTSTAMP:20250508T065806Z
SUMMARY:Einführung von PostgreSQL in einer Oracle-&quot;Bude&quot; (Bernd Patolla)
LOCATION:Zürich
URL:https://www.postgresql.eu/events/pgconfde2025/schedule/session/6510/
END:VEVENT
BEGIN:VEVENT
UID:6573@pgconfde2025
DTSTART:20250508T071000Z
DTEND:20250508T075500Z
DTSTAMP:20250508T065806Z
SUMMARY:Elephant in a nutshell 2.0 - PostgreSQL community, people, and processes. (Valeria  Kaplan)
LOCATION:Berlin 2+3
URL:https://www.postgresql.eu/events/pgconfde2025/schedule/session/6573/
END:VEVENT
BEGIN:VEVENT
UID:6467@pgconfde2025
DTSTART:20250508T082500Z
DTEND:20250508T091000Z
DTSTAMP:20250508T081207Z
SUMMARY:Warum sich PostgreSQL-Fans auch für Kafka und Debezium interessieren sollten? (Dirk Krautschick)
LOCATION:Zürich
URL:https://www.postgresql.eu/events/pgconfde2025/schedule/session/6467/
END:VEVENT
BEGIN:VEVENT
UID:6696@pgconfde2025
DTSTART:20250508T082500Z
DTEND:20250508T091000Z
DTSTAMP:20250508T081207Z
SUMMARY:Postgres as an AI Knowledge Base (Torsten Steinbach)
LOCATION:Madrid
URL:https://www.postgresql.eu/events/pgconfde2025/schedule/session/6696/
END:VEVENT
BEGIN:VEVENT
UID:6296@pgconfde2025
DTSTART:20250508T082500Z
DTEND:20250508T091000Z
DTSTAMP:20250508T081207Z
SUMMARY:Building a Data Lakehouse with PostgreSQL: Dive into Formats, Tools, Techniques, and Strategies (Josef Machytka)
LOCATION:Berlin 1
URL:https://www.postgresql.eu/events/pgconfde2025/schedule/session/6296/
END:VEVENT
BEGIN:VEVENT
UID:6585@pgconfde2025
DTSTART:20250508T082500Z
DTEND:20250508T091000Z
DTSTAMP:20250508T081207Z
SUMMARY:The Lifecycle of a SELECT: A Glimpse into the Depths of PostgreSQL Internals (Sergey Dudoladov)
LOCATION:Berlin 2+3
URL:https://www.postgresql.eu/events/pgconfde2025/schedule/session/6585/
END:VEVENT
BEGIN:VEVENT
UID:6471@pgconfde2025
DTSTART:20250508T092000Z
DTEND:20250508T100500Z
DTSTAMP:20250508T090931Z
SUMMARY:Riding the daemon - PostgreSQL on FreeBSD (Daniel Westermann)
LOCATION:Zürich
URL:https://www.postgresql.eu/events/pgconfde2025/schedule/session/6471/
END:VEVENT
BEGIN:VEVENT
UID:6563@pgconfde2025
DTSTART:20250508T092000Z
DTEND:20250508T100500Z
DTSTAMP:20250508T090931Z
SUMMARY:András in Windowsland - a DBA&#x27;s (mis)adventures (András Váczi)
LOCATION:Berlin 1
URL:https://www.postgresql.eu/events/pgconfde2025/schedule/session/6563/
END:VEVENT
BEGIN:VEVENT
UID:6541@pgconfde2025
DTSTART:20250508T092000Z
DTEND:20250508T100500Z
DTSTAMP:20250508T090931Z
SUMMARY:Postgres and Life Science: From Cells to Stars (Evan Hunter Stanton)
LOCATION:Berlin 2+3
URL:https://www.postgresql.eu/events/pgconfde2025/schedule/session/6541/
END:VEVENT
BEGIN:VEVENT
UID:6700@pgconfde2025
DTSTART:20250508T092000Z
DTEND:20250508T100500Z
DTSTAMP:20250508T090931Z
SUMMARY:pgBackRest Advanced Archiving and Recovery Magic You’ll Wish You Knew Sooner (Stefan Fercot)
LOCATION:Madrid
URL:https://www.postgresql.eu/events/pgconfde2025/schedule/session/6700/
END:VEVENT
BEGIN:VEVENT
UID:6463@pgconfde2025
DTSTART:20250508T101500Z
DTEND:20250508T105000Z
DTSTAMP:20250508T100241Z
SUMMARY:PostgreSQL Configuration File: Less is More (Lætitia AVROT)
LOCATION:Berlin 2+3
URL:https://www.postgresql.eu/events/pgconfde2025/schedule/session/6463/
END:VEVENT
BEGIN:VEVENT
UID:6695@pgconfde2025
DTSTART:20250508T101500Z
DTEND:20250508T105000Z
DTSTAMP:20250508T100241Z
SUMMARY:From Ground to Cloud: PostgreSQL with Aiven and Talon.One (Jakob Shimony (CTO, Talon.One), Dirk Krautschick (Aiven))
LOCATION:Madrid
URL:https://www.postgresql.eu/events/pgconfde2025/schedule/session/6695/
END:VEVENT
BEGIN:VEVENT
UID:6575@pgconfde2025
DTSTART:20250508T101500Z
DTEND:20250508T105000Z
DTSTAMP:20250508T100241Z
SUMMARY:The Well-Tempered Elephant (Gianni Ciolli)
LOCATION:Berlin 1
URL:https://www.postgresql.eu/events/pgconfde2025/schedule/session/6575/
END:VEVENT
BEGIN:VEVENT
UID:6511@pgconfde2025
DTSTART:20250508T101500Z
DTEND:20250508T105000Z
DTSTAMP:20250508T100241Z
SUMMARY:Modern VACUUM (Christoph Berg)
LOCATION:Zürich
URL:https://www.postgresql.eu/events/pgconfde2025/schedule/session/6511/
END:VEVENT
BEGIN:VEVENT
UID:6513@pgconfde2025
DTSTART:20250508T114500Z
DTEND:20250508T123000Z
DTSTAMP:20250508T113143Z
SUMMARY:Modernes SSL ideal einsetzen (Peter Eisentraut)
LOCATION:Zürich
URL:https://www.postgresql.eu/events/pgconfde2025/schedule/session/6513/
END:VEVENT
BEGIN:VEVENT
UID:6723@pgconfde2025
DTSTART:20250508T114500Z
DTEND:20250508T123000Z
DTSTAMP:20250508T113143Z
SUMMARY:PostgreSQL on Autopilot: Self-Service &amp; Automation for DBAs (Raoul Illyés)
LOCATION:Madrid
URL:https://www.postgresql.eu/events/pgconfde2025/schedule/session/6723/
END:VEVENT
BEGIN:VEVENT
UID:6542@pgconfde2025
DTSTART:20250508T114500Z
DTEND:20250508T123000Z
DTSTAMP:20250508T113143Z
SUMMARY:Breaking Down Monoliths: Automating PostgreSQL Cluster Isolation at Scale (Fabiana Scala, Nacho Mas)
LOCATION:Berlin 2+3
URL:https://www.postgresql.eu/events/pgconfde2025/schedule/session/6542/
END:VEVENT
BEGIN:VEVENT
UID:6550@pgconfde2025
DTSTART:20250508T114500Z
DTEND:20250508T123000Z
DTSTAMP:20250508T113143Z
SUMMARY:Fun With UUIDs (Chris Ellis)
LOCATION:Berlin 1
URL:https://www.postgresql.eu/events/pgconfde2025/schedule/session/6550/
END:VEVENT
BEGIN:VEVENT
UID:6458@pgconfde2025
DTSTART:20250508T124000Z
DTEND:20250508T132500Z
DTSTAMP:20250508T122954Z
SUMMARY:PostgreSQL Als Daten-Integrations-Werkzeug Mit Foreign Data Wrappern (Stefanie Janine Stölting)
LOCATION:Zürich
URL:https://www.postgresql.eu/events/pgconfde2025/schedule/session/6458/
END:VEVENT
BEGIN:VEVENT
UID:6584@pgconfde2025
DTSTART:20250508T124000Z
DTEND:20250508T132500Z
DTSTAMP:20250508T122954Z
SUMMARY:Building a Discord-Game with PostgreSQL (Caspar Moritz Klein, Xenia Kukushkina)
LOCATION:Berlin 1
URL:https://www.postgresql.eu/events/pgconfde2025/schedule/session/6584/
END:VEVENT
BEGIN:VEVENT
UID:6546@pgconfde2025
DTSTART:20250508T124000Z
DTEND:20250508T132500Z
DTSTAMP:20250508T122954Z
SUMMARY:Comparing the Oracle and PostgreSQL transaction systems (Laurenz Albe)
LOCATION:Berlin 2+3
URL:https://www.postgresql.eu/events/pgconfde2025/schedule/session/6546/
END:VEVENT
BEGIN:VEVENT
UID:6694@pgconfde2025
DTSTART:20250508T124000Z
DTEND:20250508T132500Z
DTSTAMP:20250508T122954Z
SUMMARY:CloudNativePG with GitOps (Theodor Herlo)
LOCATION:Madrid
URL:https://www.postgresql.eu/events/pgconfde2025/schedule/session/6694/
END:VEVENT
BEGIN:VEVENT
UID:6470@pgconfde2025
DTSTART:20250508T133500Z
DTEND:20250508T142000Z
DTSTAMP:20250508T132217Z
SUMMARY:Adjusting work_mem: Scaling PostgreSQL events without overloading (Ellyne Phneah)
LOCATION:Berlin 2+3
URL:https://www.postgresql.eu/events/pgconfde2025/schedule/session/6470/
END:VEVENT
BEGIN:VEVENT
UID:6698@pgconfde2025
DTSTART:20250508T133500Z
DTEND:20250508T142000Z
DTSTAMP:20250508T132217Z
SUMMARY:ATROPOSS – The Browser-Based Crystal Ball for Your Database Future (Maik Sandmann)
LOCATION:Madrid
URL:https://www.postgresql.eu/events/pgconfde2025/schedule/session/6698/
END:VEVENT
BEGIN:VEVENT
UID:6567@pgconfde2025
DTSTART:20250508T133500Z
DTEND:20250508T142000Z
DTSTAMP:20250508T132217Z
SUMMARY:From Distance to Intelligence: Evolving Your Vector Search (Bilge Ince, Boriss Mejias)
LOCATION:Berlin 1
URL:https://www.postgresql.eu/events/pgconfde2025/schedule/session/6567/
END:VEVENT
BEGIN:VEVENT
UID:6553@pgconfde2025
DTSTART:20250508T133500Z
DTEND:20250508T142000Z
DTSTAMP:20250508T132217Z
SUMMARY:PostgreSQL Performance Tuning (Michael Banck)
LOCATION:Zürich
URL:https://www.postgresql.eu/events/pgconfde2025/schedule/session/6553/
END:VEVENT
BEGIN:VEVENT
UID:6690@pgconfde2025
DTSTART:20250508T145000Z
DTEND:20250508T150500Z
DTSTAMP:20250508T143617Z
SUMMARY:Successful integration of PostgreSQL at Finanz Informatik (Diego Calvo de Nó)
LOCATION:Berlin 1
URL:https://www.postgresql.eu/events/pgconfde2025/schedule/session/6690/
END:VEVENT
BEGIN:VEVENT
UID:6691@pgconfde2025
DTSTART:20250508T150500Z
DTEND:20250508T152000Z
DTSTAMP:20250508T145205Z
SUMMARY:Scaling Open Source for Real-World Impact: The PostgreSQL Cloud Journey (Jakob Shimony (CTO, Talon.One), Dirk Krautschick (Aiven))
LOCATION:Berlin 1
URL:https://www.postgresql.eu/events/pgconfde2025/schedule/session/6691/
END:VEVENT
BEGIN:VEVENT
UID:6692@pgconfde2025
DTSTART:20250508T152000Z
DTEND:20250508T153500Z
DTSTAMP:20250508T150753Z
SUMMARY:EDB and PostgreSQL - Today and Tomorrow (Peter Eisentraut)
LOCATION:Berlin 1
URL:https://www.postgresql.eu/events/pgconfde2025/schedule/session/6692/
END:VEVENT
BEGIN:VEVENT
UID:6693@pgconfde2025
DTSTART:20250508T153500Z
DTEND:20250508T155000Z
DTSTAMP:20250508T152341Z
SUMMARY:PostgreSQL: A Cornerstone for Sovereignty and Independence in the European Cloud (Richard Siekmann)
LOCATION:Berlin 1
URL:https://www.postgresql.eu/events/pgconfde2025/schedule/session/6693/
END:VEVENT
BEGIN:VEVENT
UID:6628@pgconfde2025
DTSTART:20250508T160000Z
DTEND:20250508T180000Z
DTSTAMP:20250508T155018Z
SUMMARY:Community Reception (Andreas Scherbaum)
LOCATION:Berlin 1
URL:https://www.postgresql.eu/events/pgconfde2025/schedule/session/6628/
END:VEVENT
BEGIN:VEVENT
UID:6464@pgconfde2025
DTSTART:20250509T070000Z
DTEND:20250509T074500Z
DTSTAMP:20250509T064505Z
SUMMARY:Normalize or De-normalize? Relational SQL Columns or JSON Document Attributes? (Franck Pachot)
LOCATION:Berlin 2+3
URL:https://www.postgresql.eu/events/pgconfde2025/schedule/session/6464/
END:VEVENT
BEGIN:VEVENT
UID:6699@pgconfde2025
DTSTART:20250509T070000Z
DTEND:20250509T074500Z
DTSTAMP:20250509T064505Z
SUMMARY:YaK Core – The Holy Grail for Deploying Ansible Code Everywhere (Hervé Schweitzer)
LOCATION:Madrid
URL:https://www.postgresql.eu/events/pgconfde2025/schedule/session/6699/
END:VEVENT
BEGIN:VEVENT
UID:6308@pgconfde2025
DTSTART:20250509T070000Z
DTEND:20250509T074500Z
DTSTAMP:20250509T064505Z
SUMMARY:Overcoming the Crisis - Recovery Guide for the PostgreSQL DBA (Emre Baransel, Utku Demir)
LOCATION:Zürich
URL:https://www.postgresql.eu/events/pgconfde2025/schedule/session/6308/
END:VEVENT
BEGIN:VEVENT
UID:6529@pgconfde2025
DTSTART:20250509T070000Z
DTEND:20250509T074500Z
DTSTAMP:20250509T064505Z
SUMMARY:Operational hazards of managing PostgreSQL DBs over 100TB (Teresa Lopes)
LOCATION:Berlin 1
URL:https://www.postgresql.eu/events/pgconfde2025/schedule/session/6529/
END:VEVENT
BEGIN:VEVENT
UID:6474@pgconfde2025
DTSTART:20250509T081500Z
DTEND:20250509T090000Z
DTSTAMP:20250509T080405Z
SUMMARY:Extend your PostgreSQL: The world of PostgreSQL extensions (Devrim Gündüz)
LOCATION:Berlin 1
URL:https://www.postgresql.eu/events/pgconfde2025/schedule/session/6474/
END:VEVENT
BEGIN:VEVENT
UID:6697@pgconfde2025
DTSTART:20250509T081500Z
DTEND:20250509T090000Z
DTSTAMP:20250509T080405Z
SUMMARY:Your LowCode Launchpad: STACKIT&#x27;s Secure, Sovereign &amp; Scalable Setup (Björn Sammet)
LOCATION:Madrid
URL:https://www.postgresql.eu/events/pgconfde2025/schedule/session/6697/
END:VEVENT
BEGIN:VEVENT
UID:6457@pgconfde2025
DTSTART:20250509T081500Z
DTEND:20250509T090000Z
DTSTAMP:20250509T080405Z
SUMMARY:What is an SLRU anyway? (Álvaro Herrera)
LOCATION:Berlin 2+3
URL:https://www.postgresql.eu/events/pgconfde2025/schedule/session/6457/
END:VEVENT
BEGIN:VEVENT
UID:6460@pgconfde2025
DTSTART:20250509T081500Z
DTEND:20250509T090000Z
DTSTAMP:20250509T080405Z
SUMMARY:Best practices for creating Ephemeral Environments with PII for Postgres (Monica Sarbu)
LOCATION:Zürich
URL:https://www.postgresql.eu/events/pgconfde2025/schedule/session/6460/
END:VEVENT
BEGIN:VEVENT
UID:6559@pgconfde2025
DTSTART:20250509T091000Z
DTEND:20250509T095500Z
DTSTAMP:20250509T085717Z
SUMMARY:Myths and Truths about Synchronous Replication in PostgreSQL (Alexander Kukushkin)
LOCATION:Berlin 1
URL:https://www.postgresql.eu/events/pgconfde2025/schedule/session/6559/
END:VEVENT
BEGIN:VEVENT
UID:6702@pgconfde2025
DTSTART:20250509T091000Z
DTEND:20250509T095500Z
DTSTAMP:20250509T085717Z
SUMMARY:The AI DBA agent: Would you trust it to tune your PostgreSQL? (Tudor Golubenco)
LOCATION:Madrid
URL:https://www.postgresql.eu/events/pgconfde2025/schedule/session/6702/
END:VEVENT
BEGIN:VEVENT
UID:6297@pgconfde2025
DTSTART:20250509T091000Z
DTEND:20250509T095500Z
DTSTAMP:20250509T085717Z
SUMMARY:PostgreSQL Connections Memory Usage: How Much, Why and When? (Josef Machytka)
LOCATION:Berlin 2+3
URL:https://www.postgresql.eu/events/pgconfde2025/schedule/session/6297/
END:VEVENT
BEGIN:VEVENT
UID:6515@pgconfde2025
DTSTART:20250509T091000Z
DTEND:20250509T095500Z
DTSTAMP:20250509T085717Z
SUMMARY:Data Archiving and Retention in PostgreSQL: Best Practices for Large Datasets (Daria Nikolaenko)
LOCATION:Zürich
URL:https://www.postgresql.eu/events/pgconfde2025/schedule/session/6515/
END:VEVENT
BEGIN:VEVENT
UID:6291@pgconfde2025
DTSTART:20250509T104000Z
DTEND:20250509T112500Z
DTSTAMP:20250509T102616Z
SUMMARY:Anatomy of Table-Level Locks in PostgreSQL (Gülçin Yıldırım Jelinek)
LOCATION:Berlin 2+3
URL:https://www.postgresql.eu/events/pgconfde2025/schedule/session/6291/
END:VEVENT
BEGIN:VEVENT
UID:6588@pgconfde2025
DTSTART:20250509T104000Z
DTEND:20250509T112500Z
DTSTAMP:20250509T102616Z
SUMMARY:What is Patroni, really? (Polina Bungina)
LOCATION:Berlin 1
URL:https://www.postgresql.eu/events/pgconfde2025/schedule/session/6588/
END:VEVENT
BEGIN:VEVENT
UID:6701@pgconfde2025
DTSTART:20250509T104000Z
DTEND:20250509T112500Z
DTSTAMP:20250509T102616Z
SUMMARY:PostgreSQL als Open Source (Hans-Jürgen Schönig)
LOCATION:Madrid
URL:https://www.postgresql.eu/events/pgconfde2025/schedule/session/6701/
END:VEVENT
BEGIN:VEVENT
UID:6547@pgconfde2025
DTSTART:20250509T104000Z
DTEND:20250509T112500Z
DTSTAMP:20250509T102616Z
SUMMARY:All about common vulnerabilities and exposures(CVE) in Postgres (Priyanka Chatterjee)
LOCATION:Zürich
URL:https://www.postgresql.eu/events/pgconfde2025/schedule/session/6547/
END:VEVENT
BEGIN:VEVENT
UID:6548@pgconfde2025
DTSTART:20250509T113500Z
DTEND:20250509T122000Z
DTSTAMP:20250509T112428Z
SUMMARY:Unleashing the Elephant Herd: Decentralized Query Processing Across PostgreSQL Instances (Haralampos Gavriilidis)
LOCATION:Zürich
URL:https://www.postgresql.eu/events/pgconfde2025/schedule/session/6548/
END:VEVENT
BEGIN:VEVENT
UID:6465@pgconfde2025
DTSTART:20250509T113500Z
DTEND:20250509T122000Z
DTSTAMP:20250509T112428Z
SUMMARY:Explain Explained - Understanding the PostgreSQL planner better (Divya Sharma)
LOCATION:Berlin 1
URL:https://www.postgresql.eu/events/pgconfde2025/schedule/session/6465/
END:VEVENT
BEGIN:VEVENT
UID:6582@pgconfde2025
DTSTART:20250509T113500Z
DTEND:20250509T122000Z
DTSTAMP:20250509T112428Z
SUMMARY:What is MVCC and why should I care about it? (Patrick Stählin)
LOCATION:Berlin 2+3
URL:https://www.postgresql.eu/events/pgconfde2025/schedule/session/6582/
END:VEVENT
BEGIN:VEVENT
UID:6704@pgconfde2025
DTSTART:20250509T113500Z
DTEND:20250509T122000Z
DTSTAMP:20250509T112428Z
SUMMARY:Your Data Deserves the Best: Migration to PostgreSQL (Josef Machytka, Alexander Wirt)
LOCATION:Madrid
URL:https://www.postgresql.eu/events/pgconfde2025/schedule/session/6704/
END:VEVENT
BEGIN:VEVENT
UID:6625@pgconfde2025
DTSTART:20250509T124000Z
DTEND:20250509T134000Z
DTSTAMP:20250509T122741Z
SUMMARY:Lightning Talks (Andreas Scherbaum)
LOCATION:Berlin 1
URL:https://www.postgresql.eu/events/pgconfde2025/schedule/session/6625/
END:VEVENT
BEGIN:VEVENT
UID:6627@pgconfde2025
DTSTART:20250509T134500Z
DTEND:20250509T140000Z
DTSTAMP:20250509T133053Z
SUMMARY:Closing session (Andreas Scherbaum)
LOCATION:Berlin 1
URL:https://www.postgresql.eu/events/pgconfde2025/schedule/session/6627/
END:VEVENT
END:VCALENDAR
