BEGIN:VCALENDAR
VERSION:2.0
PRODID:-//postgresqleu/confreg//NONSGML v1.0//EN
BEGIN:VEVENT
UID:429@pgconfeu2013
DTSTART:20131029T090000Z
DTEND:20131029T123000Z
DTSTAMP:20130702T155951Z
SUMMARY:PostgreSQL &amp; PostGIS (Gianni Ciolli)
LOCATION:Dargle
URL:https://www.postgresql.eu/events/pgconfeu2013/schedule/session/429/
END:VEVENT
BEGIN:VEVENT
UID:428@pgconfeu2013
DTSTART:20131029T090000Z
DTEND:20131029T170000Z
DTSTAMP:20130702T160143Z
SUMMARY:PostgreSQL indexing (Hans-Jürgen Schönig)
LOCATION:Dodder
URL:https://www.postgresql.eu/events/pgconfeu2013/schedule/session/428/
END:VEVENT
BEGIN:VEVENT
UID:431@pgconfeu2013
DTSTART:20131029T090000Z
DTEND:20131029T123000Z
DTSTAMP:20130702T155943Z
SUMMARY:PostgreSQL Performance Tuning (Bruce Momjian)
LOCATION:Liffey
URL:https://www.postgresql.eu/events/pgconfeu2013/schedule/session/431/
END:VEVENT
BEGIN:VEVENT
UID:432@pgconfeu2013
DTSTART:20131029T133000Z
DTEND:20131029T170000Z
DTSTAMP:20130702T155824Z
SUMMARY:Data Processing Inside PostgreSQL (Bruce Momjian)
LOCATION:Liffey
URL:https://www.postgresql.eu/events/pgconfeu2013/schedule/session/432/
END:VEVENT
BEGIN:VEVENT
UID:430@pgconfeu2013
DTSTART:20131029T133000Z
DTEND:20131029T170000Z
DTSTAMP:20130702T160013Z
SUMMARY:Writing &amp; using Postgres Extensions (Dimitri Fontaine)
LOCATION:Dargle
URL:https://www.postgresql.eu/events/pgconfeu2013/schedule/session/430/
END:VEVENT
BEGIN:VEVENT
UID:536@pgconfeu2013
DTSTART:20131030T093000Z
DTEND:20131030T094500Z
DTSTAMP:20140828T123650Z
SUMMARY:Welcome and opening (Magnus Hagander)
LOCATION:Earlsfort
URL:https://www.postgresql.eu/events/pgconfeu2013/schedule/session/536/
END:VEVENT
BEGIN:VEVENT
UID:565@pgconfeu2013
DTSTART:20131030T094500Z
DTEND:20131030T104500Z
DTSTAMP:20130925T113658Z
SUMMARY:Keynote: Handling the Spotlight: How PostgreSQL can become the database of choice (Mark Taylor)
LOCATION:Earlsfort
URL:https://www.postgresql.eu/events/pgconfeu2013/schedule/session/565/
END:VEVENT
BEGIN:VEVENT
UID:500@pgconfeu2013
DTSTART:20131030T111000Z
DTEND:20131030T120000Z
DTSTAMP:20130903T113804Z
SUMMARY:What&#x27;s New in PostgreSQL 9.3 (Robert Treat)
LOCATION:Earlsfort
URL:https://www.postgresql.eu/events/pgconfeu2013/schedule/session/500/
END:VEVENT
BEGIN:VEVENT
UID:465@pgconfeu2013
DTSTART:20131030T111000Z
DTEND:20131030T120000Z
DTSTAMP:20130903T113804Z
SUMMARY:Writing a user-defined datatype (Heikki Linnakangas)
LOCATION:Pembroke
URL:https://www.postgresql.eu/events/pgconfeu2013/schedule/session/465/
END:VEVENT
BEGIN:VEVENT
UID:452@pgconfeu2013
DTSTART:20131030T111000Z
DTEND:20131030T120000Z
DTSTAMP:20130930T143842Z
SUMMARY:PostgreSQL for Rails (Roland Sonnenschein)
LOCATION:Leeson
URL:https://www.postgresql.eu/events/pgconfeu2013/schedule/session/452/
END:VEVENT
BEGIN:VEVENT
UID:412@pgconfeu2013
DTSTART:20131030T121000Z
DTEND:20131030T130000Z
DTSTAMP:20130903T113804Z
SUMMARY:Introduction of  pg_statsinfo and pg_stats_reporter  ~Statistics Reporting Tool for DBA~ (Mitsumasa KONDO)
LOCATION:Leeson
URL:https://www.postgresql.eu/events/pgconfeu2013/schedule/session/412/
END:VEVENT
BEGIN:VEVENT
UID:403@pgconfeu2013
DTSTART:20131030T121000Z
DTEND:20131030T130000Z
DTSTAMP:20130903T113804Z
SUMMARY:PostgreSQL - One of the most important Open Source projects (Michael Meskes)
LOCATION:Earlsfort
URL:https://www.postgresql.eu/events/pgconfeu2013/schedule/session/403/
END:VEVENT
BEGIN:VEVENT
UID:488@pgconfeu2013
DTSTART:20131030T121000Z
DTEND:20131030T130000Z
DTSTAMP:20130903T122804Z
SUMMARY:LATERAL querying in 9.3; keep up with the new features! (Gianni Ciolli)
LOCATION:Pembroke
URL:https://www.postgresql.eu/events/pgconfeu2013/schedule/session/488/
END:VEVENT
BEGIN:VEVENT
UID:425@pgconfeu2013
DTSTART:20131030T140000Z
DTEND:20131030T145000Z
DTSTAMP:20130908T180528Z
SUMMARY:Detecting performance bottlenecks (Hans-Jürgen Schönig)
LOCATION:Pembroke
URL:https://www.postgresql.eu/events/pgconfeu2013/schedule/session/425/
END:VEVENT
BEGIN:VEVENT
UID:485@pgconfeu2013
DTSTART:20131030T140000Z
DTEND:20131030T145000Z
DTSTAMP:20130926T082245Z
SUMMARY:Writing a foreign data wrapper (Bernd Helmle)
LOCATION:Leeson
URL:https://www.postgresql.eu/events/pgconfeu2013/schedule/session/485/
END:VEVENT
BEGIN:VEVENT
UID:459@pgconfeu2013
DTSTART:20131030T140000Z
DTEND:20131030T145000Z
DTSTAMP:20130926T084242Z
SUMMARY:Going spatial with PostGIS and more (Hugo Mercier)
LOCATION:Earlsfort
URL:https://www.postgresql.eu/events/pgconfeu2013/schedule/session/459/
END:VEVENT
BEGIN:VEVENT
UID:417@pgconfeu2013
DTSTART:20131030T152000Z
DTEND:20131030T161000Z
DTSTAMP:20130903T113804Z
SUMMARY:Nulls Make Things Easier? (Bruce Momjian)
LOCATION:Earlsfort
URL:https://www.postgresql.eu/events/pgconfeu2013/schedule/session/417/
END:VEVENT
BEGIN:VEVENT
UID:406@pgconfeu2013
DTSTART:20131030T152000Z
DTEND:20131030T161000Z
DTSTAMP:20130903T113804Z
SUMMARY:Explaining the Index of PostgreSQL Indexes (Jonathan S. Katz)
LOCATION:Pembroke
URL:https://www.postgresql.eu/events/pgconfeu2013/schedule/session/406/
END:VEVENT
BEGIN:VEVENT
UID:451@pgconfeu2013
DTSTART:20131030T152000Z
DTEND:20131030T161000Z
DTSTAMP:20130903T113804Z
SUMMARY:Success stories on migrating from Sybase ASE to PostgreSQL (Achim Eisele, Jens Wilke)
LOCATION:Leeson
URL:https://www.postgresql.eu/events/pgconfeu2013/schedule/session/451/
END:VEVENT
BEGIN:VEVENT
UID:492@pgconfeu2013
DTSTART:20131030T162000Z
DTEND:20131030T171000Z
DTSTAMP:20130903T113804Z
SUMMARY:Multicorn: writing Foreign Data Wrappers in python (Ronan Dunklau)
LOCATION:Leeson
URL:https://www.postgresql.eu/events/pgconfeu2013/schedule/session/492/
END:VEVENT
BEGIN:VEVENT
UID:453@pgconfeu2013
DTSTART:20131030T162000Z
DTEND:20131030T171000Z
DTSTAMP:20130925T184129Z
SUMMARY:PostgreSQL Disaster Recovery with Barman (Gabriele Bartolini)
LOCATION:Earlsfort
URL:https://www.postgresql.eu/events/pgconfeu2013/schedule/session/453/
END:VEVENT
BEGIN:VEVENT
UID:504@pgconfeu2013
DTSTART:20131030T162000Z
DTEND:20131030T171000Z
DTSTAMP:20130903T113804Z
SUMMARY:Conduct change from Oracle to PostgreSQL (Jean-Paul Argudo)
LOCATION:Pembroke
URL:https://www.postgresql.eu/events/pgconfeu2013/schedule/session/504/
END:VEVENT
BEGIN:VEVENT
UID:455@pgconfeu2013
DTSTART:20131031T093000Z
DTEND:20131031T102000Z
DTSTAMP:20130903T113804Z
SUMMARY:Gotcha! Finer points of the postgres query planner and how to use them in your queries (Atri Sharma)
LOCATION:Leeson
URL:https://www.postgresql.eu/events/pgconfeu2013/schedule/session/455/
END:VEVENT
BEGIN:VEVENT
UID:410@pgconfeu2013
DTSTART:20131031T093000Z
DTEND:20131031T102000Z
DTSTAMP:20130903T113804Z
SUMMARY:Taking advantage of custom background workers (Michael Paquier)
LOCATION:Earlsfort
URL:https://www.postgresql.eu/events/pgconfeu2013/schedule/session/410/
END:VEVENT
BEGIN:VEVENT
UID:505@pgconfeu2013
DTSTART:20131031T093000Z
DTEND:20131031T102000Z
DTSTAMP:20130903T113804Z
SUMMARY:pgBadger v.4 (Jean-Paul Argudo)
LOCATION:Pembroke
URL:https://www.postgresql.eu/events/pgconfeu2013/schedule/session/505/
END:VEVENT
BEGIN:VEVENT
UID:441@pgconfeu2013
DTSTART:20131031T105000Z
DTEND:20131031T114000Z
DTSTAMP:20130903T113804Z
SUMMARY:Doing PITR Right - There&#x27;s more than just replication (Stephen Frost)
LOCATION:Earlsfort
URL:https://www.postgresql.eu/events/pgconfeu2013/schedule/session/441/
END:VEVENT
BEGIN:VEVENT
UID:498@pgconfeu2013
DTSTART:20131031T105000Z
DTEND:20131031T114000Z
DTSTAMP:20130903T113804Z
SUMMARY:Materialised views now and the future (Thom Brown)
LOCATION:Leeson
URL:https://www.postgresql.eu/events/pgconfeu2013/schedule/session/498/
END:VEVENT
BEGIN:VEVENT
UID:516@pgconfeu2013
DTSTART:20131031T105000Z
DTEND:20131031T114000Z
DTSTAMP:20130903T113804Z
SUMMARY:Business Intelligence &amp; Performance (Simon Riggs)
LOCATION:Pembroke
URL:https://www.postgresql.eu/events/pgconfeu2013/schedule/session/516/
END:VEVENT
BEGIN:VEVENT
UID:493@pgconfeu2013
DTSTART:20131031T115000Z
DTEND:20131031T124000Z
DTSTAMP:20130903T113804Z
SUMMARY:Federation with Foreign Data Wrappers (David Fetter)
LOCATION:Leeson
URL:https://www.postgresql.eu/events/pgconfeu2013/schedule/session/493/
END:VEVENT
BEGIN:VEVENT
UID:483@pgconfeu2013
DTSTART:20131031T115000Z
DTEND:20131031T124000Z
DTSTAMP:20130903T113804Z
SUMMARY:Postgres what they really use (Craig Kerstiens)
LOCATION:Earlsfort
URL:https://www.postgresql.eu/events/pgconfeu2013/schedule/session/483/
END:VEVENT
BEGIN:VEVENT
UID:491@pgconfeu2013
DTSTART:20131031T115000Z
DTEND:20131031T124000Z
DTSTAMP:20130903T113804Z
SUMMARY:Concurrency in Postgres (Peter Geoghegan)
LOCATION:Pembroke
URL:https://www.postgresql.eu/events/pgconfeu2013/schedule/session/491/
END:VEVENT
BEGIN:VEVENT
UID:402@pgconfeu2013
DTSTART:20131031T134000Z
DTEND:20131031T143000Z
DTSTAMP:20130903T113804Z
SUMMARY:Indexes: The neglected performance all-rounder (Markus Winand)
LOCATION:Earlsfort
URL:https://www.postgresql.eu/events/pgconfeu2013/schedule/session/402/
END:VEVENT
BEGIN:VEVENT
UID:484@pgconfeu2013
DTSTART:20131031T134000Z
DTEND:20131031T143000Z
DTSTAMP:20130903T113804Z
SUMMARY:Switching Horses Overnight - a Software Manufacturer&#x27;s View on Replacing an Existing Database Management System with PostgreSQL (Robert Lichtenberger, Stefan Andreatta)
LOCATION:Leeson
URL:https://www.postgresql.eu/events/pgconfeu2013/schedule/session/484/
END:VEVENT
BEGIN:VEVENT
UID:476@pgconfeu2013
DTSTART:20131031T134000Z
DTEND:20131031T143000Z
DTSTAMP:20130903T113804Z
SUMMARY:Next generation of GIN (Alexander Korotkov, Oleg Bartunov)
LOCATION:Pembroke
URL:https://www.postgresql.eu/events/pgconfeu2013/schedule/session/476/
END:VEVENT
BEGIN:VEVENT
UID:510@pgconfeu2013
DTSTART:20131031T144000Z
DTEND:20131031T153000Z
DTSTAMP:20130903T113804Z
SUMMARY:My experience with embedding PostgreSQL (Jignesh Shah)
LOCATION:Leeson
URL:https://www.postgresql.eu/events/pgconfeu2013/schedule/session/510/
END:VEVENT
BEGIN:VEVENT
UID:464@pgconfeu2013
DTSTART:20131031T144000Z
DTEND:20131031T153000Z
DTSTAMP:20130903T113804Z
SUMMARY:Migrating from MySQL to PostgreSQL (Dimitri Fontaine)
LOCATION:Earlsfort
URL:https://www.postgresql.eu/events/pgconfeu2013/schedule/session/464/
END:VEVENT
BEGIN:VEVENT
UID:523@pgconfeu2013
DTSTART:20131031T144000Z
DTEND:20131031T153000Z
DTSTAMP:20130903T113804Z
SUMMARY:Visualizing Postgres (Will Leinweber)
LOCATION:Pembroke
URL:https://www.postgresql.eu/events/pgconfeu2013/schedule/session/523/
END:VEVENT
BEGIN:VEVENT
UID:537@pgconfeu2013
DTSTART:20131031T160000Z
DTEND:20131031T165000Z
DTSTAMP:20130903T113804Z
SUMMARY:Lightning talks (Harald Armin Massa)
LOCATION:Earlsfort
URL:https://www.postgresql.eu/events/pgconfeu2013/schedule/session/537/
END:VEVENT
BEGIN:VEVENT
UID:474@pgconfeu2013
DTSTART:20131101T093000Z
DTEND:20131101T102000Z
DTSTAMP:20130903T113804Z
SUMMARY:Epic fails in the RDBMS world (Willem Leenen)
LOCATION:Earlsfort
URL:https://www.postgresql.eu/events/pgconfeu2013/schedule/session/474/
END:VEVENT
BEGIN:VEVENT
UID:401@pgconfeu2013
DTSTART:20131101T093000Z
DTEND:20131101T102000Z
DTSTAMP:20130903T113804Z
SUMMARY:Pagination done the PostgreSQL way (Markus Winand)
LOCATION:Leeson
URL:https://www.postgresql.eu/events/pgconfeu2013/schedule/session/401/
END:VEVENT
BEGIN:VEVENT
UID:502@pgconfeu2013
DTSTART:20131101T093000Z
DTEND:20131101T102000Z
DTSTAMP:20130903T113804Z
SUMMARY:Agile Oracle to PostgreSQL migrations (Gabriele Bartolini)
LOCATION:Pembroke
URL:https://www.postgresql.eu/events/pgconfeu2013/schedule/session/502/
END:VEVENT
BEGIN:VEVENT
UID:519@pgconfeu2013
DTSTART:20131101T105000Z
DTEND:20131101T114000Z
DTSTAMP:20131101T091438Z
SUMMARY:Postgres from Vision to Reality, ABNAMRO Client case (Rob Sijmons)
LOCATION:Leeson
URL:https://www.postgresql.eu/events/pgconfeu2013/schedule/session/519/
END:VEVENT
BEGIN:VEVENT
UID:489@pgconfeu2013
DTSTART:20131101T105000Z
DTEND:20131101T114000Z
DTSTAMP:20130903T113804Z
SUMMARY:Useful PostgreSQL Extensions -- the extensions behind the scenes (Devrim Gündüz)
LOCATION:Pembroke
URL:https://www.postgresql.eu/events/pgconfeu2013/schedule/session/489/
END:VEVENT
BEGIN:VEVENT
UID:440@pgconfeu2013
DTSTART:20131101T105000Z
DTEND:20131101T114000Z
DTSTAMP:20130903T113804Z
SUMMARY:Using Postgres FDW w/ a sharded PostgreSQL Database (Stephen Frost)
LOCATION:Earlsfort
URL:https://www.postgresql.eu/events/pgconfeu2013/schedule/session/440/
END:VEVENT
BEGIN:VEVENT
UID:490@pgconfeu2013
DTSTART:20131101T115000Z
DTEND:20131101T124000Z
DTSTAMP:20130903T113804Z
SUMMARY:Binary storage for nested data structures and application to hstore data type. (Oleg Bartunov)
LOCATION:Pembroke
URL:https://www.postgresql.eu/events/pgconfeu2013/schedule/session/490/
END:VEVENT
BEGIN:VEVENT
UID:522@pgconfeu2013
DTSTART:20131101T115000Z
DTEND:20131101T124000Z
DTSTAMP:20130912T135006Z
SUMMARY:PostgreSQL Backups, the good the bad and the ugly (Joshua D. Drake)
LOCATION:Leeson
URL:https://www.postgresql.eu/events/pgconfeu2013/schedule/session/522/
END:VEVENT
BEGIN:VEVENT
UID:508@pgconfeu2013
DTSTART:20131101T115000Z
DTEND:20131101T124000Z
DTSTAMP:20130903T113804Z
SUMMARY:Postgres versus an anonymous database from Redwood (Gregory Stark)
LOCATION:Earlsfort
URL:https://www.postgresql.eu/events/pgconfeu2013/schedule/session/508/
END:VEVENT
BEGIN:VEVENT
UID:512@pgconfeu2013
DTSTART:20131101T134000Z
DTEND:20131101T143000Z
DTSTAMP:20130903T113804Z
SUMMARY:Elephants in fashion (Valentine Gogichashvili)
LOCATION:Leeson
URL:https://www.postgresql.eu/events/pgconfeu2013/schedule/session/512/
END:VEVENT
BEGIN:VEVENT
UID:497@pgconfeu2013
DTSTART:20131101T134000Z
DTEND:20131101T143000Z
DTSTAMP:20130903T113804Z
SUMMARY:Wiretapping the Wire Protocol: automatic data visualization for psql with Cartographer and FEMEBE (Maciek Sakrejda)
LOCATION:Pembroke
URL:https://www.postgresql.eu/events/pgconfeu2013/schedule/session/497/
END:VEVENT
BEGIN:VEVENT
UID:486@pgconfeu2013
DTSTART:20131101T134000Z
DTEND:20131101T143000Z
DTSTAMP:20130903T113804Z
SUMMARY:Hierarchies Without Masters (Gianni Ciolli)
LOCATION:Earlsfort
URL:https://www.postgresql.eu/events/pgconfeu2013/schedule/session/486/
END:VEVENT
BEGIN:VEVENT
UID:517@pgconfeu2013
DTSTART:20131101T150000Z
DTEND:20131101T152000Z
DTSTAMP:20130909T121224Z
SUMMARY:PostgreSQL Futures (Simon Riggs)
LOCATION:Earlsfort
URL:https://www.postgresql.eu/events/pgconfeu2013/schedule/session/517/
END:VEVENT
BEGIN:VEVENT
UID:525@pgconfeu2013
DTSTART:20131101T152500Z
DTEND:20131101T154500Z
DTSTAMP:20131023T145305Z
SUMMARY:PostgreSQL in 5 years - Expectations from the market place (Keith Alsheimer)
LOCATION:Earlsfort
URL:https://www.postgresql.eu/events/pgconfeu2013/schedule/session/525/
END:VEVENT
BEGIN:VEVENT
UID:535@pgconfeu2013
DTSTART:20131101T155000Z
DTEND:20131101T163000Z
DTSTAMP:20130903T113804Z
SUMMARY:Closing (Dave Page, Magnus Hagander)
LOCATION:Earlsfort
URL:https://www.postgresql.eu/events/pgconfeu2013/schedule/session/535/
END:VEVENT
END:VCALENDAR
