BEGIN:VCALENDAR
VERSION:2.0
PRODID:-//postgresqleu/confreg//NONSGML v1.0//EN
BEGIN:VEVENT
UID:2067@pgconfeu2018
DTSTART:20181023T080000Z
DTEND:20181023T160000Z
DTSTAMP:20181023T074504Z
SUMMARY:PostgreSQL Performance Tuning (Tomas Vondra)
LOCATION:Berlin A
URL:https://www.postgresql.eu/events/pgconfeu2018/schedule/session/2067/
END:VEVENT
BEGIN:VEVENT
UID:2070@pgconfeu2018
DTSTART:20181023T080000Z
DTEND:20181023T113000Z
DTSTAMP:20181023T074504Z
SUMMARY:Exploring Common Table Expressions and Window Functions (Bruce Momjian)
LOCATION:Geneva
URL:https://www.postgresql.eu/events/pgconfeu2018/schedule/session/2070/
END:VEVENT
BEGIN:VEVENT
UID:2072@pgconfeu2018
DTSTART:20181023T080000Z
DTEND:20181023T113000Z
DTSTAMP:20181023T074505Z
SUMMARY:Analytics unleashed (Hans-Jürgen Schönig)
LOCATION:Munich
URL:https://www.postgresql.eu/events/pgconfeu2018/schedule/session/2072/
END:VEVENT
BEGIN:VEVENT
UID:2068@pgconfeu2018
DTSTART:20181023T080000Z
DTEND:20181023T113000Z
DTSTAMP:20181023T074504Z
SUMMARY:PostgreSQL DBA toolbelt for day-to-day ops (Kaarel Moppel)
LOCATION:Berlin B
URL:https://www.postgresql.eu/events/pgconfeu2018/schedule/session/2068/
END:VEVENT
BEGIN:VEVENT
UID:2071@pgconfeu2018
DTSTART:20181023T123000Z
DTEND:20181023T160000Z
DTSTAMP:20181023T121504Z
SUMMARY:Postgres for All Your Data (Bruce Momjian)
LOCATION:Geneva
URL:https://www.postgresql.eu/events/pgconfeu2018/schedule/session/2071/
END:VEVENT
BEGIN:VEVENT
UID:2073@pgconfeu2018
DTSTART:20181023T123000Z
DTEND:20181023T160000Z
DTSTAMP:20181023T121506Z
SUMMARY:Architecting real-time analytics for your customers (Craig Kerstiens, Marco Slot)
LOCATION:Munich
URL:https://www.postgresql.eu/events/pgconfeu2018/schedule/session/2073/
END:VEVENT
BEGIN:VEVENT
UID:2069@pgconfeu2018
DTSTART:20181023T123000Z
DTEND:20181023T160000Z
DTSTAMP:20181023T121505Z
SUMMARY:Dig the WAL (Jean-Christophe Arnu, Stéphane Schildknecht)
LOCATION:Berlin B
URL:https://www.postgresql.eu/events/pgconfeu2018/schedule/session/2069/
END:VEVENT
BEGIN:VEVENT
UID:2245@pgconfeu2018
DTSTART:20181024T083000Z
DTEND:20181024T084500Z
DTSTAMP:20181024T081504Z
SUMMARY:Welcome and Opening (Magnus Hagander)
LOCATION:New York
URL:https://www.postgresql.eu/events/pgconfeu2018/schedule/session/2245/
END:VEVENT
BEGIN:VEVENT
UID:2020@pgconfeu2018
DTSTART:20181024T084500Z
DTEND:20181024T094500Z
DTSTAMP:20181024T083008Z
SUMMARY:Location - the universal foreign key. Past, present and future of spatial data in PostgreSQL (Paul Ramsey)
LOCATION:New York
URL:https://www.postgresql.eu/events/pgconfeu2018/schedule/session/2020/
END:VEVENT
BEGIN:VEVENT
UID:2169@pgconfeu2018
DTSTART:20181024T101000Z
DTEND:20181024T110000Z
DTSTAMP:20181024T095506Z
SUMMARY:PostgreSQL worst practices (Ilya Kosmodemiansky)
LOCATION:New York
URL:https://www.postgresql.eu/events/pgconfeu2018/schedule/session/2169/
END:VEVENT
BEGIN:VEVENT
UID:2160@pgconfeu2018
DTSTART:20181024T101000Z
DTEND:20181024T110000Z
DTSTAMP:20181024T095505Z
SUMMARY:PostgreSQL is NOT your traditional SQL database (Gülçin Yıldırım Jelinek)
LOCATION:Berlin
URL:https://www.postgresql.eu/events/pgconfeu2018/schedule/session/2160/
END:VEVENT
BEGIN:VEVENT
UID:2224@pgconfeu2018
DTSTART:20181024T101000Z
DTEND:20181024T110000Z
DTSTAMP:20181024T095505Z
SUMMARY:Fast, not Furious - What a benchmark can tell you (Rubens Souza)
LOCATION:Casablanca
URL:https://www.postgresql.eu/events/pgconfeu2018/schedule/session/2224/
END:VEVENT
BEGIN:VEVENT
UID:2173@pgconfeu2018
DTSTART:20181024T111000Z
DTEND:20181024T120000Z
DTSTAMP:20181024T105504Z
SUMMARY:Advanced Logical Replication (Petr Jelinek)
LOCATION:New York
URL:https://www.postgresql.eu/events/pgconfeu2018/schedule/session/2173/
END:VEVENT
BEGIN:VEVENT
UID:2009@pgconfeu2018
DTSTART:20181024T111000Z
DTEND:20181024T120000Z
DTSTAMP:20181024T105504Z
SUMMARY:PostgreSQL Serverside Programming in C (Heikki Linnakangas)
LOCATION:Casablanca
URL:https://www.postgresql.eu/events/pgconfeu2018/schedule/session/2009/
END:VEVENT
BEGIN:VEVENT
UID:1995@pgconfeu2018
DTSTART:20181024T111000Z
DTEND:20181024T120000Z
DTSTAMP:20181024T105505Z
SUMMARY:Tour de Data Types: VARCHAR2 or CHAR(255)? (Andreas Scherbaum)
LOCATION:Berlin
URL:https://www.postgresql.eu/events/pgconfeu2018/schedule/session/1995/
END:VEVENT
BEGIN:VEVENT
UID:2115@pgconfeu2018
DTSTART:20181024T130000Z
DTEND:20181024T135000Z
DTSTAMP:20181024T124504Z
SUMMARY:Postgres as your new Dev Stack (Susanne Schmidt)
LOCATION:Casablanca
URL:https://www.postgresql.eu/events/pgconfeu2018/schedule/session/2115/
END:VEVENT
BEGIN:VEVENT
UID:2000@pgconfeu2018
DTSTART:20181024T130000Z
DTEND:20181024T135000Z
DTSTAMP:20181024T124504Z
SUMMARY:Around the world with extensions (Craig Kerstiens)
LOCATION:Berlin
URL:https://www.postgresql.eu/events/pgconfeu2018/schedule/session/2000/
END:VEVENT
BEGIN:VEVENT
UID:2051@pgconfeu2018
DTSTART:20181024T130000Z
DTEND:20181024T135000Z
DTSTAMP:20181024T124505Z
SUMMARY:What&#x27;s new in PostgreSQL 11 (Magnus Hagander)
LOCATION:New York
URL:https://www.postgresql.eu/events/pgconfeu2018/schedule/session/2051/
END:VEVENT
BEGIN:VEVENT
UID:2077@pgconfeu2018
DTSTART:20181024T140000Z
DTEND:20181024T145000Z
DTSTAMP:20181024T134504Z
SUMMARY:Tower of Babel or How to turn an elephant into a polyglot (Pavlo Golub)
LOCATION:Casablanca
URL:https://www.postgresql.eu/events/pgconfeu2018/schedule/session/2077/
END:VEVENT
BEGIN:VEVENT
UID:2084@pgconfeu2018
DTSTART:20181024T140000Z
DTEND:20181024T145000Z
DTSTAMP:20181024T134504Z
SUMMARY:Be efficient : use psql! (Lætitia AVROT)
LOCATION:Berlin
URL:https://www.postgresql.eu/events/pgconfeu2018/schedule/session/2084/
END:VEVENT
BEGIN:VEVENT
UID:2033@pgconfeu2018
DTSTART:20181024T140000Z
DTEND:20181024T145000Z
DTSTAMP:20181024T134504Z
SUMMARY:What is old in PostgreSQL 11? (Devrim Gündüz)
LOCATION:New York
URL:https://www.postgresql.eu/events/pgconfeu2018/schedule/session/2033/
END:VEVENT
BEGIN:VEVENT
UID:2013@pgconfeu2018
DTSTART:20181024T152000Z
DTEND:20181024T161000Z
DTSTAMP:20181024T150505Z
SUMMARY:High Performance pgBackRest (David Steele)
LOCATION:Casablanca
URL:https://www.postgresql.eu/events/pgconfeu2018/schedule/session/2013/
END:VEVENT
BEGIN:VEVENT
UID:2104@pgconfeu2018
DTSTART:20181024T152000Z
DTEND:20181024T161000Z
DTSTAMP:20181024T150505Z
SUMMARY:zheap: An answer to PostgreSQL bloat woes (Amit Kapila)
LOCATION:New York
URL:https://www.postgresql.eu/events/pgconfeu2018/schedule/session/2104/
END:VEVENT
BEGIN:VEVENT
UID:2066@pgconfeu2018
DTSTART:20181024T152000Z
DTEND:20181024T161000Z
DTSTAMP:20181024T150505Z
SUMMARY:Review of Patch Reviewing (Stephen Frost)
LOCATION:Berlin
URL:https://www.postgresql.eu/events/pgconfeu2018/schedule/session/2066/
END:VEVENT
BEGIN:VEVENT
UID:2058@pgconfeu2018
DTSTART:20181024T162000Z
DTEND:20181024T171000Z
DTSTAMP:20181024T160505Z
SUMMARY:Hacking PostgreSQL (Stephen Frost)
LOCATION:Casablanca
URL:https://www.postgresql.eu/events/pgconfeu2018/schedule/session/2058/
END:VEVENT
BEGIN:VEVENT
UID:2023@pgconfeu2018
DTSTART:20181024T162000Z
DTEND:20181024T171000Z
DTSTAMP:20181024T160504Z
SUMMARY:Data Modeling, Normalization and Denormalization (Dimitri Fontaine)
LOCATION:New York
URL:https://www.postgresql.eu/events/pgconfeu2018/schedule/session/2023/
END:VEVENT
BEGIN:VEVENT
UID:2030@pgconfeu2018
DTSTART:20181024T162000Z
DTEND:20181024T171000Z
DTSTAMP:20181024T160504Z
SUMMARY:Time Related Range Types Revisited (Charles Clavadetscher)
LOCATION:Berlin
URL:https://www.postgresql.eu/events/pgconfeu2018/schedule/session/2030/
END:VEVENT
BEGIN:VEVENT
UID:2198@pgconfeu2018
DTSTART:20181025T083000Z
DTEND:20181025T092000Z
DTSTAMP:20181025T081506Z
SUMMARY:Extend your PostgreSQL: FDW magic! (Günce Kaya)
LOCATION:Casablanca
URL:https://www.postgresql.eu/events/pgconfeu2018/schedule/session/2198/
END:VEVENT
BEGIN:VEVENT
UID:2135@pgconfeu2018
DTSTART:20181025T083000Z
DTEND:20181025T092000Z
DTSTAMP:20181025T081505Z
SUMMARY:Highway to Hell or Stairway to Cloud? (Alexander Kukushkin)
LOCATION:Berlin
URL:https://www.postgresql.eu/events/pgconfeu2018/schedule/session/2135/
END:VEVENT
BEGIN:VEVENT
UID:1992@pgconfeu2018
DTSTART:20181025T083000Z
DTEND:20181025T092000Z
DTSTAMP:20181025T081505Z
SUMMARY:Let&#x27;s Build a Complex, Real-Time Data Management Application...before the session ends! (Jonathan S. Katz)
LOCATION:New York
URL:https://www.postgresql.eu/events/pgconfeu2018/schedule/session/1992/
END:VEVENT
BEGIN:VEVENT
UID:2098@pgconfeu2018
DTSTART:20181025T093000Z
DTEND:20181025T102000Z
DTSTAMP:20181025T091504Z
SUMMARY:Advanced PostgreSQL Backup and Recovery methods (Anastasia Lubennikova)
LOCATION:Berlin
URL:https://www.postgresql.eu/events/pgconfeu2018/schedule/session/2098/
END:VEVENT
BEGIN:VEVENT
UID:2206@pgconfeu2018
DTSTART:20181025T093000Z
DTEND:20181025T102000Z
DTSTAMP:20181025T091504Z
SUMMARY:Use Logical Decoding to build your own application cache (Blagoj Atanasovski)
LOCATION:Casablanca
URL:https://www.postgresql.eu/events/pgconfeu2018/schedule/session/2206/
END:VEVENT
BEGIN:VEVENT
UID:2083@pgconfeu2018
DTSTART:20181025T093000Z
DTEND:20181025T102000Z
DTSTAMP:20181025T091504Z
SUMMARY:CREATE STATISTICS - what is it for? (Tomas Vondra)
LOCATION:New York
URL:https://www.postgresql.eu/events/pgconfeu2018/schedule/session/2083/
END:VEVENT
BEGIN:VEVENT
UID:2075@pgconfeu2018
DTSTART:20181025T105000Z
DTEND:20181025T114000Z
DTSTAMP:20181025T103505Z
SUMMARY:Ace it with ACID: PostgreSQL transactions for fun and profit (Oleksii Kliukin)
LOCATION:New York
URL:https://www.postgresql.eu/events/pgconfeu2018/schedule/session/2075/
END:VEVENT
BEGIN:VEVENT
UID:2096@pgconfeu2018
DTSTART:20181025T105000Z
DTEND:20181025T114000Z
DTSTAMP:20181025T103505Z
SUMMARY:Partitioning, back to the core (Thomas BOUSSEKEY)
LOCATION:Berlin
URL:https://www.postgresql.eu/events/pgconfeu2018/schedule/session/2096/
END:VEVENT
BEGIN:VEVENT
UID:2119@pgconfeu2018
DTSTART:20181025T105000Z
DTEND:20181025T114000Z
DTSTAMP:20181025T103505Z
SUMMARY:Cleaning out crocodiles teeth with PostgreSQL indexes - a story on all the index types in PG (Louise Grandjonc)
LOCATION:Casablanca
URL:https://www.postgresql.eu/events/pgconfeu2018/schedule/session/2119/
END:VEVENT
BEGIN:VEVENT
UID:2192@pgconfeu2018
DTSTART:20181025T115000Z
DTEND:20181025T124000Z
DTSTAMP:20181025T113504Z
SUMMARY:Constraints: a Developer&#x27;s Secret Weapon (Will Leinweber)
LOCATION:Berlin
URL:https://www.postgresql.eu/events/pgconfeu2018/schedule/session/2192/
END:VEVENT
BEGIN:VEVENT
UID:2207@pgconfeu2018
DTSTART:20181025T115000Z
DTEND:20181025T124000Z
DTSTAMP:20181025T113505Z
SUMMARY:Pluggable Storage in PostgreSQL (Andres Freund)
LOCATION:New York
URL:https://www.postgresql.eu/events/pgconfeu2018/schedule/session/2207/
END:VEVENT
BEGIN:VEVENT
UID:2210@pgconfeu2018
DTSTART:20181025T115000Z
DTEND:20181025T124000Z
DTSTAMP:20181025T113505Z
SUMMARY:The HyperLogLog Algorithm: How it works and why you will love it (Burak Yucesoy)
LOCATION:Casablanca
URL:https://www.postgresql.eu/events/pgconfeu2018/schedule/session/2210/
END:VEVENT
BEGIN:VEVENT
UID:2175@pgconfeu2018
DTSTART:20181025T134000Z
DTEND:20181025T143000Z
DTSTAMP:20181025T132504Z
SUMMARY:Industrial PostgreSQL (Christoph Moench-Tegeder)
LOCATION:New York
URL:https://www.postgresql.eu/events/pgconfeu2018/schedule/session/2175/
END:VEVENT
BEGIN:VEVENT
UID:2221@pgconfeu2018
DTSTART:20181025T134000Z
DTEND:20181025T143000Z
DTSTAMP:20181025T132504Z
SUMMARY:Bug Squashing with SQLsmith (Andreas Seltenreich)
LOCATION:Casablanca
URL:https://www.postgresql.eu/events/pgconfeu2018/schedule/session/2221/
END:VEVENT
BEGIN:VEVENT
UID:2197@pgconfeu2018
DTSTART:20181025T134000Z
DTEND:20181025T143000Z
DTSTAMP:20181025T132504Z
SUMMARY:Taking care of the elephant (Christoph Berg, Michael Meskes)
LOCATION:Berlin
URL:https://www.postgresql.eu/events/pgconfeu2018/schedule/session/2197/
END:VEVENT
BEGIN:VEVENT
UID:2110@pgconfeu2018
DTSTART:20181025T144000Z
DTEND:20181025T153000Z
DTSTAMP:20181025T142504Z
SUMMARY:Will Postgres Live Forever? (Bruce Momjian)
LOCATION:New York
URL:https://www.postgresql.eu/events/pgconfeu2018/schedule/session/2110/
END:VEVENT
BEGIN:VEVENT
UID:2166@pgconfeu2018
DTSTART:20181025T144000Z
DTEND:20181025T153000Z
DTSTAMP:20181025T142504Z
SUMMARY:Monitoring Postgres (Gregory Stark)
LOCATION:Casablanca
URL:https://www.postgresql.eu/events/pgconfeu2018/schedule/session/2166/
END:VEVENT
BEGIN:VEVENT
UID:2125@pgconfeu2018
DTSTART:20181025T144000Z
DTEND:20181025T153000Z
DTSTAMP:20181025T142504Z
SUMMARY:File system and virtual memory tuning for a Zabbix database (Alicja Kucharczyk)
LOCATION:Berlin
URL:https://www.postgresql.eu/events/pgconfeu2018/schedule/session/2125/
END:VEVENT
BEGIN:VEVENT
UID:2234@pgconfeu2018
DTSTART:20181025T160000Z
DTEND:20181025T171500Z
DTSTAMP:20181025T154504Z
SUMMARY:LightningTalks (Dave Page, Harald Armin Massa)
LOCATION:New York
URL:https://www.postgresql.eu/events/pgconfeu2018/schedule/session/2234/
END:VEVENT
BEGIN:VEVENT
UID:2140@pgconfeu2018
DTSTART:20181026T083000Z
DTEND:20181026T092000Z
DTSTAMP:20181026T081504Z
SUMMARY:Parallel query in PostgreSQL: How not to (mis)use it? (Amit Kapila, Rafia Sabih)
LOCATION:New York
URL:https://www.postgresql.eu/events/pgconfeu2018/schedule/session/2140/
END:VEVENT
BEGIN:VEVENT
UID:2165@pgconfeu2018
DTSTART:20181026T083000Z
DTEND:20181026T092000Z
DTSTAMP:20181026T081504Z
SUMMARY:How and why to use PostgreSQL as long-term storage for your Prometheus metrics (Erik Nordström)
LOCATION:Berlin
URL:https://www.postgresql.eu/events/pgconfeu2018/schedule/session/2165/
END:VEVENT
BEGIN:VEVENT
UID:2195@pgconfeu2018
DTSTART:20181026T083000Z
DTEND:20181026T092000Z
DTSTAMP:20181026T081503Z
SUMMARY:Implementing Incremental View Maintenance on PostgreSQL (Yugo Nagata)
LOCATION:Casablanca
URL:https://www.postgresql.eu/events/pgconfeu2018/schedule/session/2195/
END:VEVENT
BEGIN:VEVENT
UID:1997@pgconfeu2018
DTSTART:20181026T095000Z
DTEND:20181026T104000Z
DTSTAMP:20181026T093505Z
SUMMARY:Bloat in PostgreSQL: A taxonomy (Peter Geoghegan)
LOCATION:Casablanca
URL:https://www.postgresql.eu/events/pgconfeu2018/schedule/session/1997/
END:VEVENT
BEGIN:VEVENT
UID:2130@pgconfeu2018
DTSTART:20181026T095000Z
DTEND:20181026T104000Z
DTSTAMP:20181026T093504Z
SUMMARY:Stored Procedures: What Are They Good For (Peter Eisentraut)
LOCATION:New York
URL:https://www.postgresql.eu/events/pgconfeu2018/schedule/session/2130/
END:VEVENT
BEGIN:VEVENT
UID:2132@pgconfeu2018
DTSTART:20181026T095000Z
DTEND:20181026T104000Z
DTSTAMP:20181026T093504Z
SUMMARY:AUTO PLAN TUNING USING FEEDBACK LOOP (Tatsuro Yamada)
LOCATION:Berlin
URL:https://www.postgresql.eu/events/pgconfeu2018/schedule/session/2132/
END:VEVENT
BEGIN:VEVENT
UID:2150@pgconfeu2018
DTSTART:20181026T105000Z
DTEND:20181026T114000Z
DTSTAMP:20181026T103504Z
SUMMARY:GPU and NVME accelerates PostgreSQL - a challenge beyond 10GB/s for big-data query execution (KaiGai Kohei)
LOCATION:Casablanca
URL:https://www.postgresql.eu/events/pgconfeu2018/schedule/session/2150/
END:VEVENT
BEGIN:VEVENT
UID:2116@pgconfeu2018
DTSTART:20181026T105000Z
DTEND:20181026T114000Z
DTSTAMP:20181026T103504Z
SUMMARY:Do you need a Full-Text Search in PostgreSQL ? (Oleg Bartunov)
LOCATION:New York
URL:https://www.postgresql.eu/events/pgconfeu2018/schedule/session/2116/
END:VEVENT
BEGIN:VEVENT
UID:2122@pgconfeu2018
DTSTART:20181026T105000Z
DTEND:20181026T114000Z
DTSTAMP:20181026T103505Z
SUMMARY:Data pipelines with PostgreSQL and Kafka (Hannu Valtonen)
LOCATION:Berlin
URL:https://www.postgresql.eu/events/pgconfeu2018/schedule/session/2122/
END:VEVENT
BEGIN:VEVENT
UID:2124@pgconfeu2018
DTSTART:20181026T124000Z
DTEND:20181026T133000Z
DTSTAMP:20181026T122504Z
SUMMARY:Towards more efficient query plans: PostgreSQL 11 and beyond (Alexander Kuzmenkov)
LOCATION:Berlin
URL:https://www.postgresql.eu/events/pgconfeu2018/schedule/session/2124/
END:VEVENT
BEGIN:VEVENT
UID:2147@pgconfeu2018
DTSTART:20181026T124000Z
DTEND:20181026T133000Z
DTSTAMP:20181026T122504Z
SUMMARY:Why PostgreSQL Why This Database Why Now? (Claire Giordano)
LOCATION:Casablanca
URL:https://www.postgresql.eu/events/pgconfeu2018/schedule/session/2147/
END:VEVENT
BEGIN:VEVENT
UID:2190@pgconfeu2018
DTSTART:20181026T124000Z
DTEND:20181026T133000Z
DTSTAMP:20181026T122504Z
SUMMARY:Using Prometheus and Grafana for PostgreSQL monitoring in TomTom (Michał Gutkowski, Rafal Hawrylak)
LOCATION:New York
URL:https://www.postgresql.eu/events/pgconfeu2018/schedule/session/2190/
END:VEVENT
BEGIN:VEVENT
UID:2223@pgconfeu2018
DTSTART:20181026T140000Z
DTEND:20181026T142000Z
DTSTAMP:20181026T134503Z
SUMMARY:PostgreSQL Inside &amp; Out (Simon Riggs)
LOCATION:New York
URL:https://www.postgresql.eu/events/pgconfeu2018/schedule/session/2223/
END:VEVENT
BEGIN:VEVENT
UID:2200@pgconfeu2018
DTSTART:20181026T142500Z
DTEND:20181026T144500Z
DTSTAMP:20181026T141008Z
SUMMARY:Postgres Takes Charge Around the World - A 20-year open source veteran examines the global economic impact of Postgres (Marc Linster)
LOCATION:New York
URL:https://www.postgresql.eu/events/pgconfeu2018/schedule/session/2200/
END:VEVENT
BEGIN:VEVENT
UID:2152@pgconfeu2018
DTSTART:20181026T145000Z
DTEND:20181026T151000Z
DTSTAMP:20181026T143504Z
SUMMARY:Living in GDPR land (Hans-Jürgen Schönig)
LOCATION:New York
URL:https://www.postgresql.eu/events/pgconfeu2018/schedule/session/2152/
END:VEVENT
BEGIN:VEVENT
UID:2244@pgconfeu2018
DTSTART:20181026T151500Z
DTEND:20181026T154500Z
DTSTAMP:20181026T150008Z
SUMMARY:So long, and thanks for all the fish (Dave Page, Magnus Hagander)
LOCATION:New York
URL:https://www.postgresql.eu/events/pgconfeu2018/schedule/session/2244/
END:VEVENT
END:VCALENDAR
