BEGIN:VCALENDAR
VERSION:2.0
PRODID:-//postgresqleu/confreg//NONSGML v1.0//EN
BEGIN:VEVENT
UID:7154@pgconfeu2025
DTSTART:20251021T060000Z
DTEND:20251021T093000Z
DTSTAMP:20251021T054850Z
SUMMARY:Community Summit – PGConf EU Edition ()
LOCATION:Beta 1
URL:https://www.postgresql.eu/events/pgconfeu2025/schedule/session/7154/
END:VEVENT
BEGIN:VEVENT
UID:7152@pgconfeu2025
DTSTART:20251021T060000Z
DTEND:20251021T093000Z
DTSTAMP:20251021T054850Z
SUMMARY:Establishing the PostgreSQL standard: What&#x27;s Postgres compatible? ()
LOCATION:Lambda
URL:https://www.postgresql.eu/events/pgconfeu2025/schedule/session/7152/
END:VEVENT
BEGIN:VEVENT
UID:7157@pgconfeu2025
DTSTART:20251021T060000Z
DTEND:20251021T093000Z
DTSTAMP:20251021T054850Z
SUMMARY:Crafty Slonik - Morning Session ()
LOCATION:Ksi
URL:https://www.postgresql.eu/events/pgconfeu2025/schedule/session/7157/
END:VEVENT
BEGIN:VEVENT
UID:7148@pgconfeu2025
DTSTART:20251021T060000Z
DTEND:20251021T093000Z
DTSTAMP:20251021T054850Z
SUMMARY:Extensions Showcase ()
LOCATION:Gamma
URL:https://www.postgresql.eu/events/pgconfeu2025/schedule/session/7148/
END:VEVENT
BEGIN:VEVENT
UID:7150@pgconfeu2025
DTSTART:20251021T060000Z
DTEND:20251021T093000Z
DTSTAMP:20251021T054850Z
SUMMARY:PostgreSQL on Kubernetes Summit ()
LOCATION:Beta 2
URL:https://www.postgresql.eu/events/pgconfeu2025/schedule/session/7150/
END:VEVENT
BEGIN:VEVENT
UID:7151@pgconfeu2025
DTSTART:20251021T103000Z
DTEND:20251021T140000Z
DTSTAMP:20251021T101730Z
SUMMARY:Community Organizers Conf ()
LOCATION:Beta 1
URL:https://www.postgresql.eu/events/pgconfeu2025/schedule/session/7151/
END:VEVENT
BEGIN:VEVENT
UID:7153@pgconfeu2025
DTSTART:20251021T103000Z
DTEND:20251021T140000Z
DTSTAMP:20251021T101730Z
SUMMARY:Patroni community summit ()
LOCATION:Gamma
URL:https://www.postgresql.eu/events/pgconfeu2025/schedule/session/7153/
END:VEVENT
BEGIN:VEVENT
UID:7149@pgconfeu2025
DTSTART:20251021T103000Z
DTEND:20251021T140000Z
DTSTAMP:20251021T101730Z
SUMMARY:PostgreSQL &amp; AI Summit ()
LOCATION:Beta 2
URL:https://www.postgresql.eu/events/pgconfeu2025/schedule/session/7149/
END:VEVENT
BEGIN:VEVENT
UID:7155@pgconfeu2025
DTSTART:20251021T103000Z
DTEND:20251021T140000Z
DTSTAMP:20251021T101730Z
SUMMARY:Conference Code of Conduct Management &amp; Volunteer Training ()
LOCATION:Lambda
URL:https://www.postgresql.eu/events/pgconfeu2025/schedule/session/7155/
END:VEVENT
BEGIN:VEVENT
UID:7156@pgconfeu2025
DTSTART:20251021T103000Z
DTEND:20251021T140000Z
DTSTAMP:20251021T101730Z
SUMMARY:Crafty Slonik - Afternoon Session ()
LOCATION:Ksi
URL:https://www.postgresql.eu/events/pgconfeu2025/schedule/session/7156/
END:VEVENT
BEGIN:VEVENT
UID:7168@pgconfeu2025
DTSTART:20251022T063000Z
DTEND:20251022T064500Z
DTSTAMP:20251022T061843Z
SUMMARY:Welcome and Opening (Magnus Hagander)
LOCATION:Omega 1
URL:https://www.postgresql.eu/events/pgconfeu2025/schedule/session/7168/
END:VEVENT
BEGIN:VEVENT
UID:7176@pgconfeu2025
DTSTART:20251022T064500Z
DTEND:20251022T074500Z
DTSTAMP:20251022T063431Z
SUMMARY:The Foundation of Open Source: Why Software Freedom? (Karen Sandler)
LOCATION:Omega 1
URL:https://www.postgresql.eu/events/pgconfeu2025/schedule/session/7176/
END:VEVENT
BEGIN:VEVENT
UID:7138@pgconfeu2025
DTSTART:20251022T081500Z
DTEND:20251022T090500Z
DTSTAMP:20251022T080421Z
SUMMARY:From Stars to Storage Engines: Migrating Big Science Workloads Beyond Greenplum (Joaquim Oliveira)
LOCATION:Omega 2
URL:https://www.postgresql.eu/events/pgconfeu2025/schedule/session/7138/
END:VEVENT
BEGIN:VEVENT
UID:6935@pgconfeu2025
DTSTART:20251022T081500Z
DTEND:20251022T090500Z
DTSTAMP:20251022T080421Z
SUMMARY:Behind Postgres 18: The People, the Code, &amp; the Invisible Work (Claire Giordano)
LOCATION:Alfa
URL:https://www.postgresql.eu/events/pgconfeu2025/schedule/session/6935/
END:VEVENT
BEGIN:VEVENT
UID:7177@pgconfeu2025
DTSTART:20251022T081500Z
DTEND:20251022T090500Z
DTSTAMP:20251022T080421Z
SUMMARY:From Transactions to Intelligence: Postgres for Open AI &amp; Analytics (Torsten Steinbach)
LOCATION:Beta
URL:https://www.postgresql.eu/events/pgconfeu2025/schedule/session/7177/
END:VEVENT
BEGIN:VEVENT
UID:6838@pgconfeu2025
DTSTART:20251022T081500Z
DTEND:20251022T090500Z
DTSTAMP:20251022T080421Z
SUMMARY:Don&#x27;t do that! (Laurenz Albe)
LOCATION:Omega 1
URL:https://www.postgresql.eu/events/pgconfeu2025/schedule/session/6838/
END:VEVENT
BEGIN:VEVENT
UID:7009@pgconfeu2025
DTSTART:20251022T100500Z
DTEND:20251022T103500Z
DTSTAMP:20251022T095458Z
SUMMARY:Data modeling with PostgreSQL at the core of Software Development (Boriss Mejias)
LOCATION:Alfa
URL:https://www.postgresql.eu/events/pgconfeu2025/schedule/session/7009/
END:VEVENT
BEGIN:VEVENT
UID:6975@pgconfeu2025
DTSTART:20251022T100500Z
DTEND:20251022T103500Z
DTSTAMP:20251022T095458Z
SUMMARY:Parsing Postgres logs the non-pgBadger way (Kaarel Moppel)
LOCATION:Omega 2
URL:https://www.postgresql.eu/events/pgconfeu2025/schedule/session/6975/
END:VEVENT
BEGIN:VEVENT
UID:7067@pgconfeu2025
DTSTART:20251022T100500Z
DTEND:20251022T103500Z
DTSTAMP:20251022T095458Z
SUMMARY:Anonymizing Data in Postgres Without Losing Your Mind (or Your Schema) (Ahmet Gedemenli, Esther Miñano Sanz)
LOCATION:Omega 1
URL:https://www.postgresql.eu/events/pgconfeu2025/schedule/session/7067/
END:VEVENT
BEGIN:VEVENT
UID:7180@pgconfeu2025
DTSTART:20251022T104500Z
DTEND:20251022T113500Z
DTSTAMP:20251022T103136Z
SUMMARY:What we built with Open Source (Hans-Jürgen Schönig)
LOCATION:Beta
URL:https://www.postgresql.eu/events/pgconfeu2025/schedule/session/7180/
END:VEVENT
BEGIN:VEVENT
UID:7008@pgconfeu2025
DTSTART:20251022T104500Z
DTEND:20251022T113500Z
DTSTAMP:20251022T103136Z
SUMMARY:Boosting Typical Query Patterns: PostgreSQL 18&#x27;s Performance Enhancements (Roberto Mello)
LOCATION:Omega 1
URL:https://www.postgresql.eu/events/pgconfeu2025/schedule/session/7008/
END:VEVENT
BEGIN:VEVENT
UID:6952@pgconfeu2025
DTSTART:20251022T104500Z
DTEND:20251022T113500Z
DTSTAMP:20251022T103136Z
SUMMARY:Improved Freezing in Postgres Vacuum: From Idea to Commit (Melanie Plageman)
LOCATION:Alfa
URL:https://www.postgresql.eu/events/pgconfeu2025/schedule/session/6952/
END:VEVENT
BEGIN:VEVENT
UID:6982@pgconfeu2025
DTSTART:20251022T104500Z
DTEND:20251022T113500Z
DTSTAMP:20251022T103136Z
SUMMARY:Vector data in Postgres: Size, TOAST, Filters and Performance (Gleb Otochkin)
LOCATION:Omega 2
URL:https://www.postgresql.eu/events/pgconfeu2025/schedule/session/6982/
END:VEVENT
BEGIN:VEVENT
UID:7103@pgconfeu2025
DTSTART:20251022T114500Z
DTEND:20251022T123500Z
DTSTAMP:20251022T113451Z
SUMMARY:Barman, past, present, and future of a pioneer community project (Giulio Calacoci, Martín Marqués)
LOCATION:Alfa
URL:https://www.postgresql.eu/events/pgconfeu2025/schedule/session/7103/
END:VEVENT
BEGIN:VEVENT
UID:6817@pgconfeu2025
DTSTART:20251022T114500Z
DTEND:20251022T123500Z
DTSTAMP:20251022T113451Z
SUMMARY:Operational hazards of managing PostgreSQL DBs over 100TB (Teresa Lopes)
LOCATION:Omega 2
URL:https://www.postgresql.eu/events/pgconfeu2025/schedule/session/6817/
END:VEVENT
BEGIN:VEVENT
UID:7184@pgconfeu2025
DTSTART:20251022T114500Z
DTEND:20251022T123500Z
DTSTAMP:20251022T113451Z
SUMMARY:Unlock PostgreSQL’s True Performance with Local SSDs (Burak Yucesoy)
LOCATION:Beta
URL:https://www.postgresql.eu/events/pgconfeu2025/schedule/session/7184/
END:VEVENT
BEGIN:VEVENT
UID:6800@pgconfeu2025
DTSTART:20251022T114500Z
DTEND:20251022T123500Z
DTSTAMP:20251022T113451Z
SUMMARY:Practical Guide to Migrating +100 Large PostgreSQL to the Cloud (Nelson Calero)
LOCATION:Omega 1
URL:https://www.postgresql.eu/events/pgconfeu2025/schedule/session/6800/
END:VEVENT
BEGIN:VEVENT
UID:7133@pgconfeu2025
DTSTART:20251022T130500Z
DTEND:20251022T135500Z
DTSTAMP:20251022T125353Z
SUMMARY:What You Should Know About Constraints in PostgreSQL (and What’s New in 18) (Gülçin Yıldırım Jelínek)
LOCATION:Omega 2
URL:https://www.postgresql.eu/events/pgconfeu2025/schedule/session/7133/
END:VEVENT
BEGIN:VEVENT
UID:7056@pgconfeu2025
DTSTART:20251022T130500Z
DTEND:20251022T135500Z
DTSTAMP:20251022T125353Z
SUMMARY:What implementing pg_tde taught us about PostgreSQL (Jan Wieremjewicz)
LOCATION:Alfa
URL:https://www.postgresql.eu/events/pgconfeu2025/schedule/session/7056/
END:VEVENT
BEGIN:VEVENT
UID:7179@pgconfeu2025
DTSTART:20251022T130500Z
DTEND:20251022T135500Z
DTSTAMP:20251022T125353Z
SUMMARY:DataGrip: A Powerful IDE for PostgreSQL (Maxim Sobolevskiy)
LOCATION:Beta
URL:https://www.postgresql.eu/events/pgconfeu2025/schedule/session/7179/
END:VEVENT
BEGIN:VEVENT
UID:6868@pgconfeu2025
DTSTART:20251022T130500Z
DTEND:20251022T135500Z
DTSTAMP:20251022T125353Z
SUMMARY:Normalize or De-normalize? Relational SQL Columns or JSON Document Attributes? (Franck Pachot)
LOCATION:Omega 1
URL:https://www.postgresql.eu/events/pgconfeu2025/schedule/session/6868/
END:VEVENT
BEGIN:VEVENT
UID:6989@pgconfeu2025
DTSTART:20251022T140500Z
DTEND:20251022T145500Z
DTSTAMP:20251022T135209Z
SUMMARY:All in a context! (Rafia Sabih)
LOCATION:Alfa
URL:https://www.postgresql.eu/events/pgconfeu2025/schedule/session/6989/
END:VEVENT
BEGIN:VEVENT
UID:6961@pgconfeu2025
DTSTART:20251022T140500Z
DTEND:20251022T145500Z
DTSTAMP:20251022T135209Z
SUMMARY:Patroni and pgBackRest: better together (Stefan Fercot)
LOCATION:Omega 2
URL:https://www.postgresql.eu/events/pgconfeu2025/schedule/session/6961/
END:VEVENT
BEGIN:VEVENT
UID:7046@pgconfeu2025
DTSTART:20251022T140500Z
DTEND:20251022T145500Z
DTSTAMP:20251022T135208Z
SUMMARY:Hacking pgvector for performance (Daniel Krefl)
LOCATION:Omega 1
URL:https://www.postgresql.eu/events/pgconfeu2025/schedule/session/7046/
END:VEVENT
BEGIN:VEVENT
UID:7181@pgconfeu2025
DTSTART:20251022T140500Z
DTEND:20251022T145500Z
DTSTAMP:20251022T135209Z
SUMMARY:Exploring new enhancements and improvements Fujitsu has delivered to PostgreSQL (Vincent O&#x27;Dea)
LOCATION:Beta
URL:https://www.postgresql.eu/events/pgconfeu2025/schedule/session/7181/
END:VEVENT
BEGIN:VEVENT
UID:7174@pgconfeu2025
DTSTART:20251023T060000Z
DTEND:20251023T061500Z
DTSTAMP:20251023T054516Z
SUMMARY:Day 2 Welcome (Jimmy Angelakos)
LOCATION:Omega 1
URL:https://www.postgresql.eu/events/pgconfeu2025/schedule/session/7174/
END:VEVENT
BEGIN:VEVENT
UID:6908@pgconfeu2025
DTSTART:20251023T062500Z
DTEND:20251023T071500Z
DTSTAMP:20251023T061155Z
SUMMARY:Why PostgreSQL people should really care about Kafka and Debezium? (Dirk Krautschick)
LOCATION:Alfa
URL:https://www.postgresql.eu/events/pgconfeu2025/schedule/session/6908/
END:VEVENT
BEGIN:VEVENT
UID:6960@pgconfeu2025
DTSTART:20251023T062500Z
DTEND:20251023T071500Z
DTSTAMP:20251023T061155Z
SUMMARY:Have you ever wondered, how a cloud platform works? (Maximilian Stefanac, Philipp Thun)
LOCATION:Omega 1
URL:https://www.postgresql.eu/events/pgconfeu2025/schedule/session/6960/
END:VEVENT
BEGIN:VEVENT
UID:7035@pgconfeu2025
DTSTART:20251023T062500Z
DTEND:20251023T071500Z
DTSTAMP:20251023T061155Z
SUMMARY:Unified Observability: Monitoring Postgres Anywhere with OpenTelemetry (Yogesh Jain)
LOCATION:Omega 2
URL:https://www.postgresql.eu/events/pgconfeu2025/schedule/session/7035/
END:VEVENT
BEGIN:VEVENT
UID:7187@pgconfeu2025
DTSTART:20251023T062500Z
DTEND:20251023T071500Z
DTSTAMP:20251023T061155Z
SUMMARY:DBtune: AI-driven performance tuning for all PostgreSQL flavors (Dr. Luigi Nardi)
LOCATION:Beta
URL:https://www.postgresql.eu/events/pgconfeu2025/schedule/session/7187/
END:VEVENT
BEGIN:VEVENT
UID:6795@pgconfeu2025
DTSTART:20251023T072500Z
DTEND:20251023T075500Z
DTSTAMP:20251023T071512Z
SUMMARY:EXPLAIN: make it make sense (Aivars Kalvāns)
LOCATION:Omega 1
URL:https://www.postgresql.eu/events/pgconfeu2025/schedule/session/6795/
END:VEVENT
BEGIN:VEVENT
UID:6947@pgconfeu2025
DTSTART:20251023T072500Z
DTEND:20251023T075500Z
DTSTAMP:20251023T071512Z
SUMMARY:Discover your contribution-magic (Cornelia Biacsics)
LOCATION:Alfa
URL:https://www.postgresql.eu/events/pgconfeu2025/schedule/session/6947/
END:VEVENT
BEGIN:VEVENT
UID:7134@pgconfeu2025
DTSTART:20251023T072500Z
DTEND:20251023T075500Z
DTSTAMP:20251023T071512Z
SUMMARY:Kubernetes from the Database Out (Alastair Turner)
LOCATION:Omega 2
URL:https://www.postgresql.eu/events/pgconfeu2025/schedule/session/7134/
END:VEVENT
BEGIN:VEVENT
UID:6846@pgconfeu2025
DTSTART:20251023T082500Z
DTEND:20251023T091500Z
DTSTAMP:20251023T081241Z
SUMMARY:Flavors of PostgreSQL® and you: how to choose a Postgres (Celeste Horgan)
LOCATION:Omega 2
URL:https://www.postgresql.eu/events/pgconfeu2025/schedule/session/6846/
END:VEVENT
BEGIN:VEVENT
UID:7037@pgconfeu2025
DTSTART:20251023T082500Z
DTEND:20251023T091500Z
DTSTAMP:20251023T081241Z
SUMMARY:The SyncRep Detective Story: Chasing Ghosts in PostgreSQL, Finding Demons in Storage (Dmitry Fomin)
LOCATION:Alfa
URL:https://www.postgresql.eu/events/pgconfeu2025/schedule/session/7037/
END:VEVENT
BEGIN:VEVENT
UID:7191@pgconfeu2025
DTSTART:20251023T082500Z
DTEND:20251023T091500Z
DTSTAMP:20251023T081241Z
SUMMARY:TDE as an Extension: A Different Path for PostgreSQL Encryption (Zsolt Parragi)
LOCATION:Beta
URL:https://www.postgresql.eu/events/pgconfeu2025/schedule/session/7191/
END:VEVENT
BEGIN:VEVENT
UID:7059@pgconfeu2025
DTSTART:20251023T082500Z
DTEND:20251023T091500Z
DTSTAMP:20251023T081241Z
SUMMARY:PostgreSQL Tips &amp; Tricks For App Devs (Chris Ellis)
LOCATION:Omega 1
URL:https://www.postgresql.eu/events/pgconfeu2025/schedule/session/7059/
END:VEVENT
BEGIN:VEVENT
UID:7054@pgconfeu2025
DTSTART:20251023T101500Z
DTEND:20251023T104500Z
DTSTAMP:20251023T100329Z
SUMMARY:Implementing Slowly Changing Dimensions in Postgres (Marc Linster)
LOCATION:Omega 1
URL:https://www.postgresql.eu/events/pgconfeu2025/schedule/session/7054/
END:VEVENT
BEGIN:VEVENT
UID:7095@pgconfeu2025
DTSTART:20251023T101500Z
DTEND:20251023T104500Z
DTSTAMP:20251023T100329Z
SUMMARY:Implementing strong cross-platform resiliency in agile environments with logical replication (Andreas Geppert)
LOCATION:Omega 2
URL:https://www.postgresql.eu/events/pgconfeu2025/schedule/session/7095/
END:VEVENT
BEGIN:VEVENT
UID:7021@pgconfeu2025
DTSTART:20251023T101500Z
DTEND:20251023T104500Z
DTSTAMP:20251023T100329Z
SUMMARY:They grow up so fast: donating your open source project to a foundation (Floor Drees, Gabriele Bartolini)
LOCATION:Alfa
URL:https://www.postgresql.eu/events/pgconfeu2025/schedule/session/7021/
END:VEVENT
BEGIN:VEVENT
UID:6931@pgconfeu2025
DTSTART:20251023T105500Z
DTEND:20251023T114500Z
DTSTAMP:20251023T104046Z
SUMMARY:Beyond the How: Why Table Partitioning Truly Matters (Derk van Veen)
LOCATION:Omega 2
URL:https://www.postgresql.eu/events/pgconfeu2025/schedule/session/6931/
END:VEVENT
BEGIN:VEVENT
UID:7001@pgconfeu2025
DTSTART:20251023T105500Z
DTEND:20251023T114500Z
DTSTAMP:20251023T104046Z
SUMMARY:AIO in PG 18 and beyond (Andres Freund)
LOCATION:Alfa
URL:https://www.postgresql.eu/events/pgconfeu2025/schedule/session/7001/
END:VEVENT
BEGIN:VEVENT
UID:7185@pgconfeu2025
DTSTART:20251023T105500Z
DTEND:20251023T114500Z
DTSTAMP:20251023T104046Z
SUMMARY:From Chaos to Compliance: How PostgreSQL Makes Regulations Work for You (Raj Verma)
LOCATION:Beta
URL:https://www.postgresql.eu/events/pgconfeu2025/schedule/session/7185/
END:VEVENT
BEGIN:VEVENT
UID:6848@pgconfeu2025
DTSTART:20251023T105500Z
DTEND:20251023T114500Z
DTSTAMP:20251023T104046Z
SUMMARY:Long Queries and the Art of Full Scan (Henrietta Dombrovskaya)
LOCATION:Omega 1
URL:https://www.postgresql.eu/events/pgconfeu2025/schedule/session/6848/
END:VEVENT
BEGIN:VEVENT
UID:7186@pgconfeu2025
DTSTART:20251023T115500Z
DTEND:20251023T124500Z
DTSTAMP:20251023T114359Z
SUMMARY:Pushing Postgres Forward: From Open Source Contributions to Intelligent Tuning (Adam Wolk)
LOCATION:Beta
URL:https://www.postgresql.eu/events/pgconfeu2025/schedule/session/7186/
END:VEVENT
BEGIN:VEVENT
UID:7094@pgconfeu2025
DTSTART:20251023T115500Z
DTEND:20251023T124500Z
DTSTAMP:20251023T114359Z
SUMMARY:Table repacking, done right (Álvaro Herrera, Antonin Houska)
LOCATION:Omega 1
URL:https://www.postgresql.eu/events/pgconfeu2025/schedule/session/7094/
END:VEVENT
BEGIN:VEVENT
UID:7084@pgconfeu2025
DTSTART:20251023T115500Z
DTEND:20251023T124500Z
DTSTAMP:20251023T114359Z
SUMMARY:Migrating to PostgreSQL: Strategies, Sovereignty, and Success (Raphael Salguero)
LOCATION:Omega 2
URL:https://www.postgresql.eu/events/pgconfeu2025/schedule/session/7084/
END:VEVENT
BEGIN:VEVENT
UID:6887@pgconfeu2025
DTSTART:20251023T115500Z
DTEND:20251023T124500Z
DTSTAMP:20251023T114359Z
SUMMARY:MultiXacts in PostgreSQL: usage, side effects, and monitoring (Divya Sharma)
LOCATION:Alfa
URL:https://www.postgresql.eu/events/pgconfeu2025/schedule/session/6887/
END:VEVENT
BEGIN:VEVENT
UID:6832@pgconfeu2025
DTSTART:20251023T125500Z
DTEND:20251023T132500Z
DTSTAMP:20251023T124127Z
SUMMARY:All about Common Vulnerabilities and exposures in PostgreSQL (Priyanka Chatterjee)
LOCATION:Omega 2
URL:https://www.postgresql.eu/events/pgconfeu2025/schedule/session/6832/
END:VEVENT
BEGIN:VEVENT
UID:6932@pgconfeu2025
DTSTART:20251023T125500Z
DTEND:20251023T132500Z
DTSTAMP:20251023T124127Z
SUMMARY:Don&#x27;t leak user data to AI - Strategies for protecting PII from LLMs and MCP (Jay MIller)
LOCATION:Alfa
URL:https://www.postgresql.eu/events/pgconfeu2025/schedule/session/6932/
END:VEVENT
BEGIN:VEVENT
UID:7093@pgconfeu2025
DTSTART:20251023T125500Z
DTEND:20251023T132500Z
DTSTAMP:20251023T124127Z
SUMMARY:Diofanti.org: A Civic Tech Journey Powered by PostgreSQL (Florents Tselai)
LOCATION:Omega 1
URL:https://www.postgresql.eu/events/pgconfeu2025/schedule/session/7093/
END:VEVENT
BEGIN:VEVENT
UID:7182@pgconfeu2025
DTSTART:20251023T140000Z
DTEND:20251023T141500Z
DTSTAMP:20251023T135030Z
SUMMARY:Postgres on AWS: Run 5X faster on metal, migrate anywhere (Ozgun Erdogan)
LOCATION:Omega 1
URL:https://www.postgresql.eu/events/pgconfeu2025/schedule/session/7182/
END:VEVENT
BEGIN:VEVENT
UID:7189@pgconfeu2025
DTSTART:20251023T142000Z
DTEND:20251023T143500Z
DTSTAMP:20251023T140618Z
SUMMARY:Why PostgreSQL took the crown from MySQL and what lies ahead (Peter Zaitsev)
LOCATION:Omega 1
URL:https://www.postgresql.eu/events/pgconfeu2025/schedule/session/7189/
END:VEVENT
BEGIN:VEVENT
UID:7183@pgconfeu2025
DTSTART:20251023T144000Z
DTEND:20251023T145500Z
DTSTAMP:20251023T142704Z
SUMMARY:PostgreSQL in ever more critical environments (Hans-Jürgen Schönig)
LOCATION:Omega 1
URL:https://www.postgresql.eu/events/pgconfeu2025/schedule/session/7183/
END:VEVENT
BEGIN:VEVENT
UID:7175@pgconfeu2025
DTSTART:20251024T060000Z
DTEND:20251024T061500Z
DTSTAMP:20251024T054841Z
SUMMARY:Day 3 Welcome (Karen Jex)
LOCATION:Omega 1
URL:https://www.postgresql.eu/events/pgconfeu2025/schedule/session/7175/
END:VEVENT
BEGIN:VEVENT
UID:6933@pgconfeu2025
DTSTART:20251024T062500Z
DTEND:20251024T071500Z
DTSTAMP:20251024T061017Z
SUMMARY:Hazards of logical decoding in PostgreSQL (Polina Bungina)
LOCATION:Alfa
URL:https://www.postgresql.eu/events/pgconfeu2025/schedule/session/6933/
END:VEVENT
BEGIN:VEVENT
UID:7016@pgconfeu2025
DTSTART:20251024T062500Z
DTEND:20251024T071500Z
DTSTAMP:20251024T061017Z
SUMMARY:PostgreSQL as a Graph Database: Who Grabbed a Beer Together? (Taras Kloba)
LOCATION:Omega 2
URL:https://www.postgresql.eu/events/pgconfeu2025/schedule/session/7016/
END:VEVENT
BEGIN:VEVENT
UID:7102@pgconfeu2025
DTSTART:20251024T062500Z
DTEND:20251024T071500Z
DTSTAMP:20251024T061017Z
SUMMARY:Transform your development workflow with thin cloning (Nicholas Meyer)
LOCATION:Omega 1
URL:https://www.postgresql.eu/events/pgconfeu2025/schedule/session/7102/
END:VEVENT
BEGIN:VEVENT
UID:7192@pgconfeu2025
DTSTART:20251024T062500Z
DTEND:20251024T071500Z
DTSTAMP:20251024T061017Z
SUMMARY:Lessons from two decades of hacking the proprietary value into open source databases (Michal Nosek)
LOCATION:Beta
URL:https://www.postgresql.eu/events/pgconfeu2025/schedule/session/7192/
END:VEVENT
BEGIN:VEVENT
UID:6891@pgconfeu2025
DTSTART:20251024T072500Z
DTEND:20251024T075500Z
DTSTAMP:20251024T071332Z
SUMMARY:Fast-path locking improvements in PG18 (Tomas Vondra)
LOCATION:Omega 2
URL:https://www.postgresql.eu/events/pgconfeu2025/schedule/session/6891/
END:VEVENT
BEGIN:VEVENT
UID:7045@pgconfeu2025
DTSTART:20251024T072500Z
DTEND:20251024T075500Z
DTSTAMP:20251024T071332Z
SUMMARY:An Introduction to B-trees and LSM-trees for DEVs and DevOps (Dave Pitts)
LOCATION:Omega 1
URL:https://www.postgresql.eu/events/pgconfeu2025/schedule/session/7045/
END:VEVENT
BEGIN:VEVENT
UID:6990@pgconfeu2025
DTSTART:20251024T072500Z
DTEND:20251024T075500Z
DTSTAMP:20251024T071332Z
SUMMARY:Waiting for Commit (Ants Aasma)
LOCATION:Alfa
URL:https://www.postgresql.eu/events/pgconfeu2025/schedule/session/6990/
END:VEVENT
BEGIN:VEVENT
UID:7018@pgconfeu2025
DTSTART:20251024T082500Z
DTEND:20251024T091500Z
DTSTAMP:20251024T081106Z
SUMMARY:Patroni: what the blog posts don&#x27;t tell you... (Cameron Murdoch)
LOCATION:Omega 1
URL:https://www.postgresql.eu/events/pgconfeu2025/schedule/session/7018/
END:VEVENT
BEGIN:VEVENT
UID:7140@pgconfeu2025
DTSTART:20251024T082500Z
DTEND:20251024T091500Z
DTSTAMP:20251024T081105Z
SUMMARY:Panel Discussion: How to Work with Other Postgres People (Boriss Mejias, Floor Drees, Jimmy Angelakos, Karen Jex)
LOCATION:Alfa
URL:https://www.postgresql.eu/events/pgconfeu2025/schedule/session/7140/
END:VEVENT
BEGIN:VEVENT
UID:7190@pgconfeu2025
DTSTART:20251024T082500Z
DTEND:20251024T091500Z
DTSTAMP:20251024T081105Z
SUMMARY:Monitoring Managed Postgres, the OSS Way (Shikhar Bhardwaj)
LOCATION:Beta
URL:https://www.postgresql.eu/events/pgconfeu2025/schedule/session/7190/
END:VEVENT
BEGIN:VEVENT
UID:7128@pgconfeu2025
DTSTART:20251024T082500Z
DTEND:20251024T091500Z
DTSTAMP:20251024T081105Z
SUMMARY:The Good, The Bad, and The Bloated: An Autovacuum Story (Jérémie Grauer)
LOCATION:Omega 2
URL:https://www.postgresql.eu/events/pgconfeu2025/schedule/session/7128/
END:VEVENT
BEGIN:VEVENT
UID:7112@pgconfeu2025
DTSTART:20251024T101500Z
DTEND:20251024T104500Z
DTSTAMP:20251024T100145Z
SUMMARY:Tracking plan shapes over time with Plan IDs and the new pg_stat_plans (Lukas Fittl)
LOCATION:Omega 2
URL:https://www.postgresql.eu/events/pgconfeu2025/schedule/session/7112/
END:VEVENT
BEGIN:VEVENT
UID:7120@pgconfeu2025
DTSTART:20251024T101500Z
DTEND:20251024T104500Z
DTSTAMP:20251024T100145Z
SUMMARY:Building Tetris in a SQL Query! (Nuno Faria)
LOCATION:Omega 1
URL:https://www.postgresql.eu/events/pgconfeu2025/schedule/session/7120/
END:VEVENT
BEGIN:VEVENT
UID:6877@pgconfeu2025
DTSTART:20251024T101500Z
DTEND:20251024T104500Z
DTSTAMP:20251024T100145Z
SUMMARY:How to explain PostgreSQL to kids (Naisila Puka)
LOCATION:Alfa
URL:https://www.postgresql.eu/events/pgconfeu2025/schedule/session/6877/
END:VEVENT
BEGIN:VEVENT
UID:7188@pgconfeu2025
DTSTART:20251024T105500Z
DTEND:20251024T114500Z
DTSTAMP:20251024T104406Z
SUMMARY:Delivering High Availability, Reliability, Scalability, and Low Latency for PostgreSQL Deployments of Any Size (Ahsan Hadi)
LOCATION:Beta
URL:https://www.postgresql.eu/events/pgconfeu2025/schedule/session/7188/
END:VEVENT
BEGIN:VEVENT
UID:6866@pgconfeu2025
DTSTART:20251024T105500Z
DTEND:20251024T114500Z
DTSTAMP:20251024T104406Z
SUMMARY:The Lifecycle of a SELECT: A Glimpse into the Depths of PostgreSQL Internals (Sergey Dudoladov)
LOCATION:Omega 1
URL:https://www.postgresql.eu/events/pgconfeu2025/schedule/session/6866/
END:VEVENT
BEGIN:VEVENT
UID:7010@pgconfeu2025
DTSTART:20251024T105500Z
DTEND:20251024T114500Z
DTSTAMP:20251024T104406Z
SUMMARY:We have multiple concurrent versions of this title trying to understand MVCC (Boriss Mejias)
LOCATION:Alfa
URL:https://www.postgresql.eu/events/pgconfeu2025/schedule/session/7010/
END:VEVENT
BEGIN:VEVENT
UID:7105@pgconfeu2025
DTSTART:20251024T105500Z
DTEND:20251024T114500Z
DTSTAMP:20251024T104406Z
SUMMARY:Breaking PostgreSQL - Learning by doing it wrong (Daniel Westermann)
LOCATION:Omega 2
URL:https://www.postgresql.eu/events/pgconfeu2025/schedule/session/7105/
END:VEVENT
BEGIN:VEVENT
UID:6825@pgconfeu2025
DTSTART:20251024T115500Z
DTEND:20251024T124500Z
DTSTAMP:20251024T114212Z
SUMMARY:Database in Distress: Testing and Repairing Different Types of Database Corruption (Josef Machytka)
LOCATION:Alfa
URL:https://www.postgresql.eu/events/pgconfeu2025/schedule/session/6825/
END:VEVENT
BEGIN:VEVENT
UID:7082@pgconfeu2025
DTSTART:20251024T115500Z
DTEND:20251024T124500Z
DTSTAMP:20251024T114212Z
SUMMARY:Can PostgreSQL Compete with Analytics Specialists? (Lætitia AVROT)
LOCATION:Omega 1
URL:https://www.postgresql.eu/events/pgconfeu2025/schedule/session/7082/
END:VEVENT
BEGIN:VEVENT
UID:7116@pgconfeu2025
DTSTART:20251024T115500Z
DTEND:20251024T124500Z
DTSTAMP:20251024T114212Z
SUMMARY:CTRL+Z for your Database : Mastering Backup and Recovery in PostgreSQL (Sakshi Nasha)
LOCATION:Omega 2
URL:https://www.postgresql.eu/events/pgconfeu2025/schedule/session/7116/
END:VEVENT
BEGIN:VEVENT
UID:7167@pgconfeu2025
DTSTART:20251024T131500Z
DTEND:20251024T140000Z
DTSTAMP:20251024T130113Z
SUMMARY:Lightning Talks ()
LOCATION:Omega 1
URL:https://www.postgresql.eu/events/pgconfeu2025/schedule/session/7167/
END:VEVENT
BEGIN:VEVENT
UID:7169@pgconfeu2025
DTSTART:20251024T140000Z
DTEND:20251024T141500Z
DTSTAMP:20251024T134838Z
SUMMARY:So long, and thanks for all the fish (Dave Page, Magnus Hagander)
LOCATION:Omega 1
URL:https://www.postgresql.eu/events/pgconfeu2025/schedule/session/7169/
END:VEVENT
END:VCALENDAR
