BEGIN:VCALENDAR
VERSION:2.0
PRODID:-//postgresqleu/confreg//NONSGML v1.0//EN
BEGIN:VEVENT
UID:6801@pgdaynl2025
DTSTART:20250912T070000Z
DTEND:20250912T071000Z
DTSTAMP:20250912T064635Z
SUMMARY:Welcome (Boriss Mejias)
LOCATION:EAUditorium
URL:https://www.postgresql.eu/events/pgdaynl2025/schedule/session/6801/
END:VEVENT
BEGIN:VEVENT
UID:6667@pgdaynl2025
DTSTART:20250912T071000Z
DTEND:20250912T073500Z
DTSTAMP:20250912T065635Z
SUMMARY:How Do We Get Postgres to the Next Level? (Jimmy Angelakos)
LOCATION:EAUditorium
URL:https://www.postgresql.eu/events/pgdaynl2025/schedule/session/6667/
END:VEVENT
BEGIN:VEVENT
UID:6730@pgdaynl2025
DTSTART:20250912T074000Z
DTEND:20250912T082500Z
DTSTAMP:20250912T072813Z
SUMMARY:Anatomy of Table-Level Locks in PostgreSQL (Gülçin Yıldırım Jelinek)
LOCATION:EAUditorium
URL:https://www.postgresql.eu/events/pgdaynl2025/schedule/session/6730/
END:VEVENT
BEGIN:VEVENT
UID:6652@pgdaynl2025
DTSTART:20250912T085500Z
DTEND:20250912T094000Z
DTSTAMP:20250912T084211Z
SUMMARY:Database in Distress: Testing and Repairing Different Types of Database Corruption (Josef Machytka)
LOCATION:EAUditorium
URL:https://www.postgresql.eu/events/pgdaynl2025/schedule/session/6652/
END:VEVENT
BEGIN:VEVENT
UID:6749@pgdaynl2025
DTSTART:20250912T094500Z
DTEND:20250912T103000Z
DTSTAMP:20250912T093436Z
SUMMARY:Fun With UUIDs (Chris Ellis)
LOCATION:EAUditorium
URL:https://www.postgresql.eu/events/pgdaynl2025/schedule/session/6749/
END:VEVENT
BEGIN:VEVENT
UID:6818@pgdaynl2025
DTSTART:20250912T113000Z
DTEND:20250912T115000Z
DTSTAMP:20250912T111514Z
SUMMARY:Lightning Talks (Cornelia Biacsics, Derk van Veen, Mayuresh Suresh Bagayatkar, ShivaDeep Gundoju)
LOCATION:
URL:https://www.postgresql.eu/events/pgdaynl2025/schedule/session/6818/
END:VEVENT
BEGIN:VEVENT
UID:6712@pgdaynl2025
DTSTART:20250912T113000Z
DTEND:20250912T113500Z
DTSTAMP:20250912T111514Z
SUMMARY:How Far Did Oracle Come? Kubernetes Operator !!! (ShivaDeep Gundoju)
LOCATION:EAUditorium
URL:https://www.postgresql.eu/events/pgdaynl2025/schedule/session/6712/
END:VEVENT
BEGIN:VEVENT
UID:6713@pgdaynl2025
DTSTART:20250912T113500Z
DTEND:20250912T114000Z
DTSTAMP:20250912T112014Z
SUMMARY:The PostgreSQL village (Cornelia Biacsics)
LOCATION:EAUditorium
URL:https://www.postgresql.eu/events/pgdaynl2025/schedule/session/6713/
END:VEVENT
BEGIN:VEVENT
UID:6644@pgdaynl2025
DTSTART:20250912T114000Z
DTEND:20250912T114500Z
DTSTAMP:20250912T112514Z
SUMMARY:PostgreSQL Compatibility Index (Mayuresh Suresh Bagayatkar)
LOCATION:EAUditorium
URL:https://www.postgresql.eu/events/pgdaynl2025/schedule/session/6644/
END:VEVENT
BEGIN:VEVENT
UID:6738@pgdaynl2025
DTSTART:20250912T114500Z
DTEND:20250912T115000Z
DTSTAMP:20250912T113103Z
SUMMARY:Public speaking as an introvert (Derk van Veen)
LOCATION:EAUditorium
URL:https://www.postgresql.eu/events/pgdaynl2025/schedule/session/6738/
END:VEVENT
BEGIN:VEVENT
UID:6677@pgdaynl2025
DTSTART:20250912T120000Z
DTEND:20250912T122500Z
DTSTAMP:20250912T114651Z
SUMMARY:Actual trees, not b-trees – or how I found PostgreSQL through PostGIS (Johannes Paul)
LOCATION:EAUditorium
URL:https://www.postgresql.eu/events/pgdaynl2025/schedule/session/6677/
END:VEVENT
BEGIN:VEVENT
UID:6673@pgdaynl2025
DTSTART:20250912T123000Z
DTEND:20250912T125500Z
DTSTAMP:20250912T121826Z
SUMMARY:Beyond Postgres - Insights about the PostgreSQL Extensibility (Dirk Krautschick)
LOCATION:EAUditorium
URL:https://www.postgresql.eu/events/pgdaynl2025/schedule/session/6673/
END:VEVENT
BEGIN:VEVENT
UID:6808@pgdaynl2025
DTSTART:20250912T130000Z
DTEND:20250912T132000Z
DTSTAMP:20250912T125005Z
SUMMARY:Debate - Kubernetes (Dmitry Fomin, Emrah Becer, Floor Drees, Jonathan Battiato, Matt Cornillon)
LOCATION:EAUditorium
URL:https://www.postgresql.eu/events/pgdaynl2025/schedule/session/6808/
END:VEVENT
BEGIN:VEVENT
UID:6736@pgdaynl2025
DTSTART:20250912T135000Z
DTEND:20250912T141500Z
DTSTAMP:20250912T133728Z
SUMMARY:Courting Mongo, committing to Postgres: Our data love story!! (Valeria Alexandra Haro Valle)
LOCATION:EAUditorium
URL:https://www.postgresql.eu/events/pgdaynl2025/schedule/session/6736/
END:VEVENT
BEGIN:VEVENT
UID:6720@pgdaynl2025
DTSTART:20250912T142000Z
DTEND:20250912T144500Z
DTSTAMP:20250912T140905Z
SUMMARY:What I learned interviewing the PostgreSQL Community (Andreas Scherbaum)
LOCATION:EAUditorium
URL:https://www.postgresql.eu/events/pgdaynl2025/schedule/session/6720/
END:VEVENT
BEGIN:VEVENT
UID:6807@pgdaynl2025
DTSTART:20250912T145000Z
DTEND:20250912T151000Z
DTSTAMP:20250912T144039Z
SUMMARY:Debate - Autotuning (Floor Drees, Gianni Ciolli, Guy Gyles, Luigi Nardi, Mayuresh Suresh Bagayatkar)
LOCATION:EAUditorium
URL:https://www.postgresql.eu/events/pgdaynl2025/schedule/session/6807/
END:VEVENT
BEGIN:VEVENT
UID:6809@pgdaynl2025
DTSTART:20250912T151500Z
DTEND:20250912T153000Z
DTSTAMP:20250912T150127Z
SUMMARY:Closing (Derk van Veen)
LOCATION:EAUditorium
URL:https://www.postgresql.eu/events/pgdaynl2025/schedule/session/6809/
END:VEVENT
END:VCALENDAR
