BEGIN:VCALENDAR
VERSION:2.0
PRODID:-//postgresqleu/confreg//NONSGML v1.0//EN
BEGIN:VEVENT
UID:7441@pgdayparis2026
DTSTART:20260326T081500Z
DTEND:20260326T090000Z
DTSTAMP:20260326T080039Z
SUMMARY:A framework for self-driving databases (Luigi Nardi, Marc Linster)
LOCATION:Auditorium
URL:https://www.postgresql.eu/events/pgdayparis2026/schedule/session/7441/
END:VEVENT
BEGIN:VEVENT
UID:7435@pgdayparis2026
DTSTART:20260326T092000Z
DTEND:20260326T100500Z
DTSTAMP:20260326T090853Z
SUMMARY:From Crisis to Control: Detect and Fix Corruptions (Derk van Veen)
LOCATION:Karnak
URL:https://www.postgresql.eu/events/pgdayparis2026/schedule/session/7435/
END:VEVENT
BEGIN:VEVENT
UID:7221@pgdayparis2026
DTSTART:20260326T092000Z
DTEND:20260326T100500Z
DTSTAMP:20260326T090853Z
SUMMARY:Breaking PostgreSQL - Learning by doing it wrong (Daniel Westermann)
LOCATION:Auditorium
URL:https://www.postgresql.eu/events/pgdayparis2026/schedule/session/7221/
END:VEVENT
BEGIN:VEVENT
UID:7317@pgdayparis2026
DTSTART:20260326T101500Z
DTEND:20260326T110000Z
DTSTAMP:20260326T100207Z
SUMMARY:postgresql.org: The hidden parts (Magnus Hagander)
LOCATION:Auditorium
URL:https://www.postgresql.eu/events/pgdayparis2026/schedule/session/7317/
END:VEVENT
BEGIN:VEVENT
UID:7691@pgdayparis2026
DTSTART:20260326T101500Z
DTEND:20260326T110000Z
DTSTAMP:20260326T100207Z
SUMMARY:Database optimization and reducing global digital pollution (Catherine Bouxin)
LOCATION:Karnak
URL:https://www.postgresql.eu/events/pgdayparis2026/schedule/session/7691/
END:VEVENT
BEGIN:VEVENT
UID:7226@pgdayparis2026
DTSTART:20260326T123000Z
DTEND:20260326T131500Z
DTSTAMP:20260326T121841Z
SUMMARY:Operational hazards of managing PostgreSQL DBs over 100TB (Teresa Lopes)
LOCATION:Auditorium
URL:https://www.postgresql.eu/events/pgdayparis2026/schedule/session/7226/
END:VEVENT
BEGIN:VEVENT
UID:7692@pgdayparis2026
DTSTART:20260326T123000Z
DTEND:20260326T131500Z
DTSTAMP:20260326T121841Z
SUMMARY:The Cryptic Elephant: Column-Level Encryption for PostgreSQL (Damien Clochard)
LOCATION:Karnak
URL:https://www.postgresql.eu/events/pgdayparis2026/schedule/session/7692/
END:VEVENT
BEGIN:VEVENT
UID:7693@pgdayparis2026
DTSTART:20260326T132500Z
DTEND:20260326T141000Z
DTSTAMP:20260326T131143Z
SUMMARY:Synchronisation of logical replication slots (Stéphane Schildknecht et Sébastien Lardière)
LOCATION:Karnak
URL:https://www.postgresql.eu/events/pgdayparis2026/schedule/session/7693/
END:VEVENT
BEGIN:VEVENT
UID:7422@pgdayparis2026
DTSTART:20260326T132500Z
DTEND:20260326T141000Z
DTSTAMP:20260326T131143Z
SUMMARY:Creating a “Dungeon Master” with Postgres and MCP (Matt Cornillon)
LOCATION:Auditorium
URL:https://www.postgresql.eu/events/pgdayparis2026/schedule/session/7422/
END:VEVENT
BEGIN:VEVENT
UID:7533@pgdayparis2026
DTSTART:20260326T143000Z
DTEND:20260326T151500Z
DTSTAMP:20260326T141954Z
SUMMARY:Customizing the Wordle Game Experience with PostgreSQL (Pavlo Golub)
LOCATION:Auditorium
URL:https://www.postgresql.eu/events/pgdayparis2026/schedule/session/7533/
END:VEVENT
BEGIN:VEVENT
UID:7690@pgdayparis2026
DTSTART:20260326T143000Z
DTEND:20260326T151500Z
DTSTAMP:20260326T141954Z
SUMMARY:Actionable Observability: Finding the root cause of Slow Queries in Postgres (Ryan Booz)
LOCATION:Karnak
URL:https://www.postgresql.eu/events/pgdayparis2026/schedule/session/7690/
END:VEVENT
BEGIN:VEVENT
UID:7246@pgdayparis2026
DTSTART:20260326T152500Z
DTEND:20260326T161000Z
DTSTAMP:20260326T151219Z
SUMMARY:Postgres Therapy Session: What the Elephant Can Learn from Its Rivals. (Mayuresh Suresh Bagayatkar)
LOCATION:Auditorium
URL:https://www.postgresql.eu/events/pgdayparis2026/schedule/session/7246/
END:VEVENT
END:VCALENDAR
